BEGIN:VCALENDAR
VERSION:2.0
PRODID:-//Leisure Knoll - ECPv6.15.20//NONSGML v1.0//EN
CALSCALE:GREGORIAN
METHOD:PUBLISH
X-WR-CALNAME:Leisure Knoll
X-ORIGINAL-URL:https://leisureknoll.org
X-WR-CALDESC:Events for Leisure Knoll
REFRESH-INTERVAL;VALUE=DURATION:PT1H
X-Robots-Tag:noindex
X-PUBLISHED-TTL:PT1H
BEGIN:VTIMEZONE
TZID:America/New_York
BEGIN:DAYLIGHT
TZOFFSETFROM:-0500
TZOFFSETTO:-0400
TZNAME:EDT
DTSTART:20250309T070000
END:DAYLIGHT
BEGIN:STANDARD
TZOFFSETFROM:-0400
TZOFFSETTO:-0500
TZNAME:EST
DTSTART:20251102T060000
END:STANDARD
BEGIN:DAYLIGHT
TZOFFSETFROM:-0500
TZOFFSETTO:-0400
TZNAME:EDT
DTSTART:20260308T070000
END:DAYLIGHT
BEGIN:STANDARD
TZOFFSETFROM:-0400
TZOFFSETTO:-0500
TZNAME:EST
DTSTART:20261101T060000
END:STANDARD
BEGIN:DAYLIGHT
TZOFFSETFROM:-0500
TZOFFSETTO:-0400
TZNAME:EDT
DTSTART:20270314T070000
END:DAYLIGHT
BEGIN:STANDARD
TZOFFSETFROM:-0400
TZOFFSETTO:-0500
TZNAME:EST
DTSTART:20271107T060000
END:STANDARD
END:VTIMEZONE
BEGIN:VEVENT
DTSTART;VALUE=DATE:20260424
DTEND;VALUE=DATE:20260425
DTSTAMP:20260424T024733
CREATED:20210416T001302Z
LAST-MODIFIED:20251215T033850Z
UID:10019675-1776988800-1777075199@leisureknoll.org
SUMMARY:Garbage Pick Up
DESCRIPTION:GARBAGE P/U -WINTERS BROS. WASTE – 631-491-4923\nGarbage pick up Tues. & Fri. except holidays Confirm Bulk P/U (on Thursday) with Winters Brothers
URL:https://leisureknoll.org/calendar/garbage-pick-up-fri/2026-04-24/
END:VEVENT
BEGIN:VEVENT
DTSTART;VALUE=DATE:20260424
DTEND;VALUE=DATE:20260425
DTSTAMP:20260424T024733
CREATED:20260329T160532Z
LAST-MODIFIED:20260329T160532Z
UID:10025780-1776988800-1777075199@leisureknoll.org
SUMMARY:Arbor Day
DESCRIPTION:
URL:https://leisureknoll.org/calendar/arbor-day/
END:VEVENT
BEGIN:VEVENT
DTSTART;TZID=America/New_York:20260424T090000
DTEND;TZID=America/New_York:20260424T100000
DTSTAMP:20260424T024733
CREATED:20260329T153557Z
LAST-MODIFIED:20260329T153756Z
UID:10025412-1777021200-1777024800@leisureknoll.org
SUMMARY:Tennis
DESCRIPTION:
URL:https://leisureknoll.org/calendar/tennis-6/2026-04-24/
END:VEVENT
BEGIN:VEVENT
DTSTART;TZID=America/New_York:20260424T090000
DTEND;TZID=America/New_York:20260424T110000
DTSTAMP:20260424T024733
CREATED:20210416T003116Z
LAST-MODIFIED:20260109T025549Z
UID:10023698-1777021200-1777028400@leisureknoll.org
SUMMARY:Wood Shop
DESCRIPTION:
URL:https://leisureknoll.org/calendar/wood-shop/2026-04-24/
END:VEVENT
BEGIN:VEVENT
DTSTART;TZID=America/New_York:20260424T100000
DTEND;TZID=America/New_York:20260424T110000
DTSTAMP:20260424T024733
CREATED:20250607T022242Z
LAST-MODIFIED:20260109T025757Z
UID:10024009-1777024800-1777028400@leisureknoll.org
SUMMARY:Slimnastics
DESCRIPTION:9:30am @ Craft Center
URL:https://leisureknoll.org/calendar/slimnastics-4-2/2026-04-24/
END:VEVENT
BEGIN:VEVENT
DTSTART;TZID=America/New_York:20260424T100000
DTEND;TZID=America/New_York:20260424T110000
DTSTAMP:20260424T024733
CREATED:20251215T034740Z
LAST-MODIFIED:20260329T154120Z
UID:10025739-1777024800-1777028400@leisureknoll.org
SUMMARY:Indoor Pickleball
DESCRIPTION:
URL:https://leisureknoll.org/calendar/indoor-pickleball/2026-04-24/
END:VEVENT
BEGIN:VEVENT
DTSTART;TZID=America/New_York:20260424T130000
DTEND;TZID=America/New_York:20260424T140000
DTSTAMP:20260424T024733
CREATED:20251004T192118Z
LAST-MODIFIED:20260109T030841Z
UID:10022804-1777035600-1777039200@leisureknoll.org
SUMMARY:Billiards
DESCRIPTION:Craft Center @ 1pm
URL:https://leisureknoll.org/calendar/billiards-5-2/2026-04-24/
END:VEVENT
BEGIN:VEVENT
DTSTART;TZID=America/New_York:20260424T180000
DTEND;TZID=America/New_York:20260424T230000
DTSTAMP:20260424T024733
CREATED:20260302T014322Z
LAST-MODIFIED:20260302T014322Z
UID:10025154-1777053600-1777071600@leisureknoll.org
SUMMARY:Texas Hold'em
DESCRIPTION:6pm @ Rec Hall
URL:https://leisureknoll.org/calendar/texas-holdem-8/2026-04-24/
END:VEVENT
END:VCALENDAR