BEGIN:VCALENDAR
VERSION:2.0
PRODID:-//Leisure Knoll - ECPv6.15.20//NONSGML v1.0//EN
CALSCALE:GREGORIAN
METHOD:PUBLISH
X-WR-CALNAME:Leisure Knoll
X-ORIGINAL-URL:https://leisureknoll.org
X-WR-CALDESC:Events for Leisure Knoll
REFRESH-INTERVAL;VALUE=DURATION:PT1H
X-Robots-Tag:noindex
X-PUBLISHED-TTL:PT1H
BEGIN:VTIMEZONE
TZID:America/New_York
BEGIN:DAYLIGHT
TZOFFSETFROM:-0500
TZOFFSETTO:-0400
TZNAME:EDT
DTSTART:20250309T070000
END:DAYLIGHT
BEGIN:STANDARD
TZOFFSETFROM:-0400
TZOFFSETTO:-0500
TZNAME:EST
DTSTART:20251102T060000
END:STANDARD
BEGIN:DAYLIGHT
TZOFFSETFROM:-0500
TZOFFSETTO:-0400
TZNAME:EDT
DTSTART:20260308T070000
END:DAYLIGHT
BEGIN:STANDARD
TZOFFSETFROM:-0400
TZOFFSETTO:-0500
TZNAME:EST
DTSTART:20261101T060000
END:STANDARD
BEGIN:DAYLIGHT
TZOFFSETFROM:-0500
TZOFFSETTO:-0400
TZNAME:EDT
DTSTART:20270314T070000
END:DAYLIGHT
BEGIN:STANDARD
TZOFFSETFROM:-0400
TZOFFSETTO:-0500
TZNAME:EST
DTSTART:20271107T060000
END:STANDARD
END:VTIMEZONE
BEGIN:VEVENT
DTSTART;VALUE=DATE:20260422
DTEND;VALUE=DATE:20260423
DTSTAMP:20260422T013338
CREATED:20210416T002329Z
LAST-MODIFIED:20250101T172802Z
UID:10017663-1776816000-1776902399@leisureknoll.org
SUMMARY:Recycling - Paper
DESCRIPTION:Paper
URL:https://leisureknoll.org/calendar/recycling-paper/2026-04-22/
END:VEVENT
BEGIN:VEVENT
DTSTART;VALUE=DATE:20260422
DTEND;VALUE=DATE:20260423
DTSTAMP:20260422T013338
CREATED:20260329T160427Z
LAST-MODIFIED:20260329T160427Z
UID:10025779-1776816000-1776902399@leisureknoll.org
SUMMARY:Earth Day
DESCRIPTION:
URL:https://leisureknoll.org/calendar/earth-day-2/
END:VEVENT
BEGIN:VEVENT
DTSTART;TZID=America/New_York:20260422T090000
DTEND;TZID=America/New_York:20260422T100000
DTSTAMP:20260422T013338
CREATED:20260329T153557Z
LAST-MODIFIED:20260329T153756Z
UID:10025411-1776848400-1776852000@leisureknoll.org
SUMMARY:Tennis
DESCRIPTION:
URL:https://leisureknoll.org/calendar/tennis-6/2026-04-22/
END:VEVENT
BEGIN:VEVENT
DTSTART;TZID=America/New_York:20260422T090000
DTEND;TZID=America/New_York:20260422T110000
DTSTAMP:20260422T013338
CREATED:20210416T003116Z
LAST-MODIFIED:20260109T025549Z
UID:10023696-1776848400-1776855600@leisureknoll.org
SUMMARY:Wood Shop
DESCRIPTION:
URL:https://leisureknoll.org/calendar/wood-shop/2026-04-22/
END:VEVENT
BEGIN:VEVENT
DTSTART;TZID=America/New_York:20260422T093000
DTEND;TZID=America/New_York:20260422T113000
DTSTAMP:20260422T013338
CREATED:20210901T030231Z
LAST-MODIFIED:20260109T030159Z
UID:10024446-1776850200-1776857400@leisureknoll.org
SUMMARY:Art Club
DESCRIPTION:Craft Room
URL:https://leisureknoll.org/calendar/art-club/2026-04-22/
END:VEVENT
BEGIN:VEVENT
DTSTART;TZID=America/New_York:20260422T100000
DTEND;TZID=America/New_York:20260422T110000
DTSTAMP:20260422T013338
CREATED:20250607T022242Z
LAST-MODIFIED:20260109T025757Z
UID:10024008-1776852000-1776855600@leisureknoll.org
SUMMARY:Slimnastics
DESCRIPTION:9:30am @ Craft Center
URL:https://leisureknoll.org/calendar/slimnastics-4-2/2026-04-22/
END:VEVENT
BEGIN:VEVENT
DTSTART;TZID=America/New_York:20260422T100000
DTEND;TZID=America/New_York:20260422T110000
DTSTAMP:20260422T013338
CREATED:20251215T034740Z
LAST-MODIFIED:20260329T154120Z
UID:10025738-1776852000-1776855600@leisureknoll.org
SUMMARY:Indoor Pickleball
DESCRIPTION:
URL:https://leisureknoll.org/calendar/indoor-pickleball/2026-04-22/
END:VEVENT
BEGIN:VEVENT
DTSTART;TZID=America/New_York:20260422T113000
DTEND;TZID=America/New_York:20260422T133000
DTSTAMP:20260422T013338
CREATED:20240929T182358Z
LAST-MODIFIED:20260109T031116Z
UID:10024920-1776857400-1776864600@leisureknoll.org
SUMMARY:Men's and Ladies' Bowling
DESCRIPTION:11:30am
URL:https://leisureknoll.org/calendar/mens-bowling-3-2/2026-04-22/
END:VEVENT
BEGIN:VEVENT
DTSTART;TZID=America/New_York:20260422T120000
DTEND;TZID=America/New_York:20260422T140000
DTSTAMP:20260422T013338
CREATED:20250421T145055Z
LAST-MODIFIED:20250421T145055Z
UID:10020419-1776859200-1776866400@leisureknoll.org
SUMMARY:Mah Jongg
DESCRIPTION:12pm @ Craft Center
URL:https://leisureknoll.org/calendar/mah-jongg-13/2026-04-22/
END:VEVENT
BEGIN:VEVENT
DTSTART;TZID=America/New_York:20260422T120000
DTEND;TZID=America/New_York:20260422T140000
DTSTAMP:20260422T013338
CREATED:20251004T193945Z
LAST-MODIFIED:20260329T153933Z
UID:10025617-1776859200-1776866400@leisureknoll.org
SUMMARY:Mah Jongg
DESCRIPTION:12pm @ Craft Center
URL:https://leisureknoll.org/calendar/mah-jongg-16/2026-04-22/
END:VEVENT
BEGIN:VEVENT
DTSTART;TZID=America/New_York:20260422T130000
DTEND;TZID=America/New_York:20260422T140000
DTSTAMP:20260422T013338
CREATED:20251004T192118Z
LAST-MODIFIED:20260109T030841Z
UID:10022675-1776862800-1776866400@leisureknoll.org
SUMMARY:Billiards
DESCRIPTION:Craft Center @ 1pm
URL:https://leisureknoll.org/calendar/billiards-5-2/2026-04-22/
END:VEVENT
BEGIN:VEVENT
DTSTART;TZID=America/New_York:20260422T130000
DTEND;TZID=America/New_York:20260422T150000
DTSTAMP:20260422T013338
CREATED:20210416T005743Z
LAST-MODIFIED:20260109T030323Z
UID:10024517-1776862800-1776870000@leisureknoll.org
SUMMARY:Bridge
DESCRIPTION:Craft Center
URL:https://leisureknoll.org/calendar/bridge/2026-04-22/
END:VEVENT
BEGIN:VEVENT
DTSTART;TZID=America/New_York:20260422T184500
DTEND;TZID=America/New_York:20260422T204500
DTSTAMP:20260422T013338
CREATED:20210505T022532Z
LAST-MODIFIED:20260109T031152Z
UID:10024972-1776883500-1776890700@leisureknoll.org
SUMMARY:Dominoes
DESCRIPTION:Recreation Hall
URL:https://leisureknoll.org/calendar/dominoes/2026-04-22/
END:VEVENT
END:VCALENDAR