BEGIN:VCALENDAR
VERSION:2.0
PRODID:-//Leisure Knoll - ECPv6.15.20//NONSGML v1.0//EN
CALSCALE:GREGORIAN
METHOD:PUBLISH
X-WR-CALNAME:Leisure Knoll
X-ORIGINAL-URL:https://leisureknoll.org
X-WR-CALDESC:Events for Leisure Knoll
REFRESH-INTERVAL;VALUE=DURATION:PT1H
X-Robots-Tag:noindex
X-PUBLISHED-TTL:PT1H
BEGIN:VTIMEZONE
TZID:America/New_York
BEGIN:DAYLIGHT
TZOFFSETFROM:-0500
TZOFFSETTO:-0400
TZNAME:EDT
DTSTART:20250309T070000
END:DAYLIGHT
BEGIN:STANDARD
TZOFFSETFROM:-0400
TZOFFSETTO:-0500
TZNAME:EST
DTSTART:20251102T060000
END:STANDARD
BEGIN:DAYLIGHT
TZOFFSETFROM:-0500
TZOFFSETTO:-0400
TZNAME:EDT
DTSTART:20260308T070000
END:DAYLIGHT
BEGIN:STANDARD
TZOFFSETFROM:-0400
TZOFFSETTO:-0500
TZNAME:EST
DTSTART:20261101T060000
END:STANDARD
BEGIN:DAYLIGHT
TZOFFSETFROM:-0500
TZOFFSETTO:-0400
TZNAME:EDT
DTSTART:20270314T070000
END:DAYLIGHT
BEGIN:STANDARD
TZOFFSETFROM:-0400
TZOFFSETTO:-0500
TZNAME:EST
DTSTART:20271107T060000
END:STANDARD
END:VTIMEZONE
BEGIN:VEVENT
DTSTART;VALUE=DATE:20260421
DTEND;VALUE=DATE:20260422
DTSTAMP:20260421T014417
CREATED:20210416T001302Z
LAST-MODIFIED:20251215T033850Z
UID:10019674-1776729600-1776815999@leisureknoll.org
SUMMARY:Garbage Pick Up
DESCRIPTION:GARBAGE P/U -WINTERS BROS. WASTE – 631-491-4923\nGarbage pick up Tues. & Fri. except holidays Confirm Bulk P/U (on Thursday) with Winters Brothers
URL:https://leisureknoll.org/calendar/garbage-pick-up-fri/2026-04-21/
END:VEVENT
BEGIN:VEVENT
DTSTART;TZID=America/New_York:20260421T090000
DTEND;TZID=America/New_York:20260421T110000
DTSTAMP:20260421T014417
CREATED:20210416T003116Z
LAST-MODIFIED:20260109T025549Z
UID:10023695-1776762000-1776769200@leisureknoll.org
SUMMARY:Wood Shop
DESCRIPTION:
URL:https://leisureknoll.org/calendar/wood-shop/2026-04-21/
END:VEVENT
BEGIN:VEVENT
DTSTART;TZID=America/New_York:20260421T093000
DTEND;TZID=America/New_York:20260421T103000
DTSTAMP:20260421T014417
CREATED:20260329T153719Z
LAST-MODIFIED:20260329T153828Z
UID:10025544-1776763800-1776767400@leisureknoll.org
SUMMARY:Ladies Tennis
DESCRIPTION:
URL:https://leisureknoll.org/calendar/ladies-tennis-7/2026-04-21/
END:VEVENT
BEGIN:VEVENT
DTSTART;TZID=America/New_York:20260421T100000
DTEND;TZID=America/New_York:20260421T110000
DTSTAMP:20260421T014417
CREATED:20240114T190957Z
LAST-MODIFIED:20260109T030126Z
UID:10024394-1776765600-1776769200@leisureknoll.org
SUMMARY:Tai Chi
DESCRIPTION:10-11am @ Rec Center
URL:https://leisureknoll.org/calendar/tai-chi-2/2026-04-21/
END:VEVENT
BEGIN:VEVENT
DTSTART;TZID=America/New_York:20260421T110000
DTEND;TZID=America/New_York:20260421T120000
DTSTAMP:20260421T014417
CREATED:20221202T030602Z
LAST-MODIFIED:20260109T025858Z
UID:10024164-1776769200-1776772800@leisureknoll.org
SUMMARY:Ping Pong
DESCRIPTION:11am @ Recreation Hall
URL:https://leisureknoll.org/calendar/ping-pong/2026-04-21/
END:VEVENT
BEGIN:VEVENT
DTSTART;TZID=America/New_York:20260421T120000
DTEND;TZID=America/New_York:20260421T140000
DTSTAMP:20260421T014417
CREATED:20251004T193945Z
LAST-MODIFIED:20260329T153933Z
UID:10025616-1776772800-1776780000@leisureknoll.org
SUMMARY:Mah Jongg
DESCRIPTION:12pm @ Craft Center
URL:https://leisureknoll.org/calendar/mah-jongg-16/2026-04-21/
END:VEVENT
BEGIN:VEVENT
DTSTART;TZID=America/New_York:20260421T120000
DTEND;TZID=America/New_York:20260421T160000
DTSTAMP:20260421T014417
CREATED:20251004T195811Z
LAST-MODIFIED:20251004T195811Z
UID:10022922-1776772800-1776787200@leisureknoll.org
SUMMARY:Bus to Walmart/King Kullen
DESCRIPTION:
URL:https://leisureknoll.org/calendar/bus-to-walmart-king-kullen/2026-04-21/
END:VEVENT
BEGIN:VEVENT
DTSTART;TZID=America/New_York:20260421T130000
DTEND;TZID=America/New_York:20260421T140000
DTSTAMP:20260421T014417
CREATED:20251004T192118Z
LAST-MODIFIED:20260109T030841Z
UID:10024728-1776776400-1776780000@leisureknoll.org
SUMMARY:Billiards
DESCRIPTION:Craft Center @ 1pm
URL:https://leisureknoll.org/calendar/billiards-5-2/2026-04-21/
END:VEVENT
BEGIN:VEVENT
DTSTART;TZID=America/New_York:20260421T180000
DTEND;TZID=America/New_York:20260421T193000
DTSTAMP:20260421T014418
CREATED:20250607T022636Z
LAST-MODIFIED:20250607T022636Z
UID:10022317-1776794400-1776799800@leisureknoll.org
SUMMARY:Billiards
DESCRIPTION:Recreation Center
URL:https://leisureknoll.org/calendar/billiards-4/2026-04-21/
END:VEVENT
BEGIN:VEVENT
DTSTART;TZID=America/New_York:20260421T180000
DTEND;TZID=America/New_York:20260421T200000
DTSTAMP:20260421T014418
CREATED:20240929T182126Z
LAST-MODIFIED:20260302T014000Z
UID:10025108-1776794400-1776801600@leisureknoll.org
SUMMARY:Men's Poker
DESCRIPTION:Craft Center
URL:https://leisureknoll.org/calendar/mens-poker-2/2026-04-21/
END:VEVENT
BEGIN:VEVENT
DTSTART;TZID=America/New_York:20260421T183000
DTEND;TZID=America/New_York:20260421T203000
DTSTAMP:20260421T014418
CREATED:20240114T181901Z
LAST-MODIFIED:20260109T031036Z
UID:10024868-1776796200-1776803400@leisureknoll.org
SUMMARY:Guys & Gals Poker
DESCRIPTION:
URL:https://leisureknoll.org/calendar/guys-gals-poker/2026-04-21/
END:VEVENT
END:VCALENDAR