BEGIN:VCALENDAR
VERSION:2.0
PRODID:-//Leisure Knoll - ECPv6.15.20//NONSGML v1.0//EN
CALSCALE:GREGORIAN
METHOD:PUBLISH
X-WR-CALNAME:Leisure Knoll
X-ORIGINAL-URL:https://leisureknoll.org
X-WR-CALDESC:Events for Leisure Knoll
REFRESH-INTERVAL;VALUE=DURATION:PT1H
X-Robots-Tag:noindex
X-PUBLISHED-TTL:PT1H
BEGIN:VTIMEZONE
TZID:America/New_York
BEGIN:DAYLIGHT
TZOFFSETFROM:-0500
TZOFFSETTO:-0400
TZNAME:EDT
DTSTART:20250309T070000
END:DAYLIGHT
BEGIN:STANDARD
TZOFFSETFROM:-0400
TZOFFSETTO:-0500
TZNAME:EST
DTSTART:20251102T060000
END:STANDARD
BEGIN:DAYLIGHT
TZOFFSETFROM:-0500
TZOFFSETTO:-0400
TZNAME:EDT
DTSTART:20260308T070000
END:DAYLIGHT
BEGIN:STANDARD
TZOFFSETFROM:-0400
TZOFFSETTO:-0500
TZNAME:EST
DTSTART:20261101T060000
END:STANDARD
BEGIN:DAYLIGHT
TZOFFSETFROM:-0500
TZOFFSETTO:-0400
TZNAME:EDT
DTSTART:20270314T070000
END:DAYLIGHT
BEGIN:STANDARD
TZOFFSETFROM:-0400
TZOFFSETTO:-0500
TZNAME:EST
DTSTART:20271107T060000
END:STANDARD
END:VTIMEZONE
BEGIN:VEVENT
DTSTART;TZID=America/New_York:20260420T090000
DTEND;TZID=America/New_York:20260420T100000
DTSTAMP:20260422T045554
CREATED:20260329T153557Z
LAST-MODIFIED:20260329T153756Z
UID:10025410-1776675600-1776679200@leisureknoll.org
SUMMARY:Tennis
DESCRIPTION:
URL:https://leisureknoll.org/calendar/tennis-6/2026-04-20/
END:VEVENT
BEGIN:VEVENT
DTSTART;TZID=America/New_York:20260420T090000
DTEND;TZID=America/New_York:20260420T110000
DTSTAMP:20260422T045554
CREATED:20210416T003116Z
LAST-MODIFIED:20260109T025549Z
UID:10023694-1776675600-1776682800@leisureknoll.org
SUMMARY:Wood Shop
DESCRIPTION:
URL:https://leisureknoll.org/calendar/wood-shop/2026-04-20/
END:VEVENT
BEGIN:VEVENT
DTSTART;TZID=America/New_York:20260420T100000
DTEND;TZID=America/New_York:20260420T110000
DTSTAMP:20260422T045554
CREATED:20250607T022242Z
LAST-MODIFIED:20260109T025757Z
UID:10024007-1776679200-1776682800@leisureknoll.org
SUMMARY:Slimnastics
DESCRIPTION:9:30am @ Craft Center
URL:https://leisureknoll.org/calendar/slimnastics-4-2/2026-04-20/
END:VEVENT
BEGIN:VEVENT
DTSTART;TZID=America/New_York:20260420T100000
DTEND;TZID=America/New_York:20260420T110000
DTSTAMP:20260422T045554
CREATED:20251215T034740Z
LAST-MODIFIED:20260329T154120Z
UID:10025737-1776679200-1776682800@leisureknoll.org
SUMMARY:Indoor Pickleball
DESCRIPTION:
URL:https://leisureknoll.org/calendar/indoor-pickleball/2026-04-20/
END:VEVENT
BEGIN:VEVENT
DTSTART;TZID=America/New_York:20260420T110000
DTEND;TZID=America/New_York:20260420T120000
DTSTAMP:20260422T045554
CREATED:20221202T030602Z
LAST-MODIFIED:20260109T025858Z
UID:10024163-1776682800-1776686400@leisureknoll.org
SUMMARY:Ping Pong
DESCRIPTION:11am @ Recreation Hall
URL:https://leisureknoll.org/calendar/ping-pong/2026-04-20/
END:VEVENT
BEGIN:VEVENT
DTSTART;TZID=America/New_York:20260420T120000
DTEND;TZID=America/New_York:20260420T133000
DTSTAMP:20260422T045554
CREATED:20230630T031224Z
LAST-MODIFIED:20260109T030045Z
UID:10024342-1776686400-1776691800@leisureknoll.org
SUMMARY:Canasta
DESCRIPTION:12pm @ Craft Center
URL:https://leisureknoll.org/calendar/canasta/2026-04-20/
END:VEVENT
BEGIN:VEVENT
DTSTART;TZID=America/New_York:20260420T130000
DTEND;TZID=America/New_York:20260420T140000
DTSTAMP:20260422T045554
CREATED:20251004T192118Z
LAST-MODIFIED:20260109T030841Z
UID:10022803-1776690000-1776693600@leisureknoll.org
SUMMARY:Billiards
DESCRIPTION:Craft Center @ 1pm
URL:https://leisureknoll.org/calendar/billiards-5-2/2026-04-20/
END:VEVENT
BEGIN:VEVENT
DTSTART;TZID=America/New_York:20260420T190000
DTEND;TZID=America/New_York:20260420T210000
DTSTAMP:20260422T045554
CREATED:20250101T204457Z
LAST-MODIFIED:20251031T223342Z
UID:10023047-1776711600-1776718800@leisureknoll.org
SUMMARY:Bunco Night
DESCRIPTION:7pm Rec Center LKA Residents
URL:https://leisureknoll.org/calendar/bunco-night-9/2026-04-20/
END:VEVENT
BEGIN:VEVENT
DTSTART;TZID=America/New_York:20260420T190000
DTEND;TZID=America/New_York:20260420T210000
DTSTAMP:20260422T045554
CREATED:20260109T024957Z
LAST-MODIFIED:20260302T013912Z
UID:10023568-1776711600-1776718800@leisureknoll.org
SUMMARY:Bunco
DESCRIPTION:7:00pm @ Rec Center \nLKA Residents
URL:https://leisureknoll.org/calendar/bunco-5/2026-04-20/
END:VEVENT
END:VCALENDAR