BEGIN:VCALENDAR
VERSION:2.0
PRODID:-//Leisure Knoll - ECPv6.15.20//NONSGML v1.0//EN
CALSCALE:GREGORIAN
METHOD:PUBLISH
X-WR-CALNAME:Leisure Knoll
X-ORIGINAL-URL:https://leisureknoll.org
X-WR-CALDESC:Events for Leisure Knoll
REFRESH-INTERVAL;VALUE=DURATION:PT1H
X-Robots-Tag:noindex
X-PUBLISHED-TTL:PT1H
BEGIN:VTIMEZONE
TZID:America/New_York
BEGIN:DAYLIGHT
TZOFFSETFROM:-0500
TZOFFSETTO:-0400
TZNAME:EDT
DTSTART:20230312T070000
END:DAYLIGHT
BEGIN:STANDARD
TZOFFSETFROM:-0400
TZOFFSETTO:-0500
TZNAME:EST
DTSTART:20231105T060000
END:STANDARD
BEGIN:DAYLIGHT
TZOFFSETFROM:-0500
TZOFFSETTO:-0400
TZNAME:EDT
DTSTART:20240310T070000
END:DAYLIGHT
BEGIN:STANDARD
TZOFFSETFROM:-0400
TZOFFSETTO:-0500
TZNAME:EST
DTSTART:20241103T060000
END:STANDARD
BEGIN:DAYLIGHT
TZOFFSETFROM:-0500
TZOFFSETTO:-0400
TZNAME:EDT
DTSTART:20250309T070000
END:DAYLIGHT
BEGIN:STANDARD
TZOFFSETFROM:-0400
TZOFFSETTO:-0500
TZNAME:EST
DTSTART:20251102T060000
END:STANDARD
END:VTIMEZONE
BEGIN:VEVENT
DTSTART;VALUE=DATE:20240102
DTEND;VALUE=DATE:20240103
DTSTAMP:20260422T063105
CREATED:20210416T001302Z
LAST-MODIFIED:20251215T033850Z
UID:10014950-1704153600-1704239999@leisureknoll.org
SUMMARY:Garbage Pick Up
DESCRIPTION:GARBAGE P/U -WINTERS BROS. WASTE – 631-491-4923\nGarbage pick up Tues. & Fri. except holidays Confirm Bulk P/U (on Thursday) with Winters Brothers
URL:https://leisureknoll.org/calendar/garbage-pick-up-fri/2024-01-02/
END:VEVENT
BEGIN:VEVENT
DTSTART;TZID=America/New_York:20240102T090000
DTEND;TZID=America/New_York:20240102T110000
DTSTAMP:20260422T063105
CREATED:20210416T003116Z
LAST-MODIFIED:20260109T025549Z
UID:10013316-1704186000-1704193200@leisureknoll.org
SUMMARY:Wood Shop
DESCRIPTION:
URL:https://leisureknoll.org/calendar/wood-shop/2024-01-02/
END:VEVENT
BEGIN:VEVENT
DTSTART;TZID=America/New_York:20240102T110000
DTEND;TZID=America/New_York:20240102T120000
DTSTAMP:20260422T063105
CREATED:20221202T030602Z
LAST-MODIFIED:20260109T025858Z
UID:10013683-1704193200-1704196800@leisureknoll.org
SUMMARY:Ping Pong
DESCRIPTION:11am @ Recreation Hall
URL:https://leisureknoll.org/calendar/ping-pong/2024-01-02/
END:VEVENT
BEGIN:VEVENT
DTSTART;TZID=America/New_York:20240102T123000
DTEND;TZID=America/New_York:20240102T163000
DTSTAMP:20260422T063105
CREATED:20210415T030726Z
LAST-MODIFIED:20240114T192346Z
UID:10015106-1704198600-1704213000@leisureknoll.org
SUMMARY:Bus to Yaphank & Middle Island
DESCRIPTION:Bus to Wal-Mart Yaphank/King Kullen Middle Island shopping center. \nLeaves Leisure Knoll at 12:30pm and returns 4:30pm.
URL:https://leisureknoll.org/calendar/bus-to-middle-island/2024-01-02/
END:VEVENT
BEGIN:VEVENT
DTSTART;TZID=America/New_York:20240102T130000
DTEND;TZID=America/New_York:20240102T150000
DTSTAMP:20260422T063105
CREATED:20210416T003503Z
LAST-MODIFIED:20240929T182527Z
UID:10013841-1704200400-1704207600@leisureknoll.org
SUMMARY:Billiards
DESCRIPTION:Recreation Center\, every day except Sunday
URL:https://leisureknoll.org/calendar/billiards/2024-01-02/
END:VEVENT
BEGIN:VEVENT
DTSTART;TZID=America/New_York:20240102T130000
DTEND;TZID=America/New_York:20240102T150000
DTSTAMP:20260422T063105
CREATED:20240114T183826Z
LAST-MODIFIED:20240114T183826Z
UID:10014677-1704200400-1704207600@leisureknoll.org
SUMMARY:Knitting for Charity
DESCRIPTION:1-3pm @ Craft Center
URL:https://leisureknoll.org/calendar/knitting-for-charity-3/
END:VEVENT
BEGIN:VEVENT
DTSTART;TZID=America/New_York:20240102T130000
DTEND;TZID=America/New_York:20240102T163000
DTSTAMP:20260422T063105
CREATED:20230312T032638Z
LAST-MODIFIED:20240929T181808Z
UID:10011730-1704200400-1704213000@leisureknoll.org
SUMMARY:Rummikub
DESCRIPTION:Craft Center \n1-4:30pm
URL:https://leisureknoll.org/calendar/rummikub-2-2/2024-01-02/
END:VEVENT
BEGIN:VEVENT
DTSTART;TZID=America/New_York:20240102T183000
DTEND;TZID=America/New_York:20240102T203000
DTSTAMP:20260422T063105
CREATED:20240114T181901Z
LAST-MODIFIED:20260109T031036Z
UID:10014360-1704220200-1704227400@leisureknoll.org
SUMMARY:Guys & Gals Poker
DESCRIPTION:
URL:https://leisureknoll.org/calendar/guys-gals-poker/2024-01-02/
END:VEVENT
END:VCALENDAR