BEGIN:VCALENDAR
VERSION:2.0
PRODID:-//Leisure Knoll - ECPv6.15.20//NONSGML v1.0//EN
CALSCALE:GREGORIAN
METHOD:PUBLISH
X-WR-CALNAME:Leisure Knoll
X-ORIGINAL-URL:https://leisureknoll.org
X-WR-CALDESC:Events for Leisure Knoll
REFRESH-INTERVAL;VALUE=DURATION:PT1H
X-Robots-Tag:noindex
X-PUBLISHED-TTL:PT1H
BEGIN:VTIMEZONE
TZID:America/New_York
BEGIN:DAYLIGHT
TZOFFSETFROM:-0500
TZOFFSETTO:-0400
TZNAME:EDT
DTSTART:20220313T070000
END:DAYLIGHT
BEGIN:STANDARD
TZOFFSETFROM:-0400
TZOFFSETTO:-0500
TZNAME:EST
DTSTART:20221106T060000
END:STANDARD
BEGIN:DAYLIGHT
TZOFFSETFROM:-0500
TZOFFSETTO:-0400
TZNAME:EDT
DTSTART:20230312T070000
END:DAYLIGHT
BEGIN:STANDARD
TZOFFSETFROM:-0400
TZOFFSETTO:-0500
TZNAME:EST
DTSTART:20231105T060000
END:STANDARD
BEGIN:DAYLIGHT
TZOFFSETFROM:-0500
TZOFFSETTO:-0400
TZNAME:EDT
DTSTART:20240310T070000
END:DAYLIGHT
BEGIN:STANDARD
TZOFFSETFROM:-0400
TZOFFSETTO:-0500
TZNAME:EST
DTSTART:20241103T060000
END:STANDARD
END:VTIMEZONE
BEGIN:VEVENT
DTSTART;TZID=America/New_York:20231127T090000
DTEND;TZID=America/New_York:20231127T100000
DTSTAMP:20260421T084707
CREATED:20230312T035839Z
LAST-MODIFIED:20231128T012444Z
UID:10012250-1701075600-1701079200@leisureknoll.org
SUMMARY:Tennis Club
DESCRIPTION:
URL:https://leisureknoll.org/calendar/tennis-club/2023-11-27/
END:VEVENT
BEGIN:VEVENT
DTSTART;TZID=America/New_York:20231127T090000
DTEND;TZID=America/New_York:20231127T110000
DTSTAMP:20260421T084707
CREATED:20210416T003116Z
LAST-MODIFIED:20260109T025549Z
UID:10009850-1701075600-1701082800@leisureknoll.org
SUMMARY:Wood Shop
DESCRIPTION:
URL:https://leisureknoll.org/calendar/wood-shop/2023-11-27/
END:VEVENT
BEGIN:VEVENT
DTSTART;TZID=America/New_York:20231127T100000
DTEND;TZID=America/New_York:20231127T110000
DTSTAMP:20260421T084707
CREATED:20220301T013856Z
LAST-MODIFIED:20250101T175615Z
UID:10010125-1701079200-1701082800@leisureknoll.org
SUMMARY:Slimnastics
DESCRIPTION:Recreation Hall
URL:https://leisureknoll.org/calendar/slimnastics-5/2023-11-27/
END:VEVENT
BEGIN:VEVENT
DTSTART;TZID=America/New_York:20231127T110000
DTEND;TZID=America/New_York:20231127T120000
DTSTAMP:20260421T084707
CREATED:20221202T030602Z
LAST-MODIFIED:20260109T025858Z
UID:10010016-1701082800-1701086400@leisureknoll.org
SUMMARY:Ping Pong
DESCRIPTION:11am @ Recreation Hall
URL:https://leisureknoll.org/calendar/ping-pong/2023-11-27/
END:VEVENT
BEGIN:VEVENT
DTSTART;TZID=America/New_York:20231127T120000
DTEND;TZID=America/New_York:20231127T133000
DTSTAMP:20260421T084707
CREATED:20230630T031224Z
LAST-MODIFIED:20260109T030045Z
UID:10012709-1701086400-1701091800@leisureknoll.org
SUMMARY:Canasta
DESCRIPTION:12pm @ Craft Center
URL:https://leisureknoll.org/calendar/canasta/2023-11-27/
END:VEVENT
BEGIN:VEVENT
DTSTART;TZID=America/New_York:20231127T130000
DTEND;TZID=America/New_York:20231127T150000
DTSTAMP:20260421T084707
CREATED:20210416T003503Z
LAST-MODIFIED:20240929T182527Z
UID:10010469-1701090000-1701097200@leisureknoll.org
SUMMARY:Billiards
DESCRIPTION:Recreation Center\, every day except Sunday
URL:https://leisureknoll.org/calendar/billiards/2023-11-27/
END:VEVENT
BEGIN:VEVENT
DTSTART;TZID=America/New_York:20231127T143000
DTEND;TZID=America/New_York:20231127T160000
DTSTAMP:20260421T084707
CREATED:20230630T031357Z
LAST-MODIFIED:20231128T012532Z
UID:10012830-1701095400-1701100800@leisureknoll.org
SUMMARY:Pickleball Club
DESCRIPTION:@ 2:30pm
URL:https://leisureknoll.org/calendar/pickleball-club/2023-11-27/
END:VEVENT
BEGIN:VEVENT
DTSTART;TZID=America/New_York:20231127T180000
DTEND;TZID=America/New_York:20231127T200000
DTSTAMP:20260421T084707
CREATED:20210702T034900Z
LAST-MODIFIED:20240707T191247Z
UID:10016825-1701108000-1701115200@leisureknoll.org
SUMMARY:Ladies Poker
DESCRIPTION:Craft Center
URL:https://leisureknoll.org/calendar/ladies-poker-2021-09-13/2023-11-27/
END:VEVENT
BEGIN:VEVENT
DTSTART;TZID=America/New_York:20231127T190000
DTEND;TZID=America/New_York:20231127T210000
DTSTAMP:20260421T084707
CREATED:20231012T024712Z
LAST-MODIFIED:20231128T012856Z
UID:10013290-1701111600-1701118800@leisureknoll.org
SUMMARY:Bunco Night
DESCRIPTION:@7pm Rec Center \nLKA Residents Only
URL:https://leisureknoll.org/calendar/bunco-night-5/2023-11-27/
END:VEVENT
END:VCALENDAR