BEGIN:VCALENDAR
VERSION:2.0
PRODID:-//Leisure Knoll - ECPv6.15.20//NONSGML v1.0//EN
CALSCALE:GREGORIAN
METHOD:PUBLISH
X-WR-CALNAME:Leisure Knoll
X-ORIGINAL-URL:https://leisureknoll.org
X-WR-CALDESC:Events for Leisure Knoll
REFRESH-INTERVAL;VALUE=DURATION:PT1H
X-Robots-Tag:noindex
X-PUBLISHED-TTL:PT1H
BEGIN:VTIMEZONE
TZID:America/New_York
BEGIN:DAYLIGHT
TZOFFSETFROM:-0500
TZOFFSETTO:-0400
TZNAME:EDT
DTSTART:20220313T070000
END:DAYLIGHT
BEGIN:STANDARD
TZOFFSETFROM:-0400
TZOFFSETTO:-0500
TZNAME:EST
DTSTART:20221106T060000
END:STANDARD
BEGIN:DAYLIGHT
TZOFFSETFROM:-0500
TZOFFSETTO:-0400
TZNAME:EDT
DTSTART:20230312T070000
END:DAYLIGHT
BEGIN:STANDARD
TZOFFSETFROM:-0400
TZOFFSETTO:-0500
TZNAME:EST
DTSTART:20231105T060000
END:STANDARD
BEGIN:DAYLIGHT
TZOFFSETFROM:-0500
TZOFFSETTO:-0400
TZNAME:EDT
DTSTART:20240310T070000
END:DAYLIGHT
BEGIN:STANDARD
TZOFFSETFROM:-0400
TZOFFSETTO:-0500
TZNAME:EST
DTSTART:20241103T060000
END:STANDARD
END:VTIMEZONE
BEGIN:VEVENT
DTSTART;VALUE=DATE:20231010
DTEND;VALUE=DATE:20231011
DTSTAMP:20260421T103410
CREATED:20210416T001302Z
LAST-MODIFIED:20251215T033850Z
UID:10009538-1696896000-1696982399@leisureknoll.org
SUMMARY:Garbage Pick Up
DESCRIPTION:GARBAGE P/U -WINTERS BROS. WASTE – 631-491-4923\nGarbage pick up Tues. & Fri. except holidays Confirm Bulk P/U (on Thursday) with Winters Brothers
URL:https://leisureknoll.org/calendar/garbage-pick-up-fri/2023-10-10/
END:VEVENT
BEGIN:VEVENT
DTSTART;TZID=America/New_York:20231010T090000
DTEND;TZID=America/New_York:20231010T110000
DTSTAMP:20260421T103410
CREATED:20210416T003116Z
LAST-MODIFIED:20260109T025549Z
UID:10009816-1696928400-1696935600@leisureknoll.org
SUMMARY:Wood Shop
DESCRIPTION:
URL:https://leisureknoll.org/calendar/wood-shop/2023-10-10/
END:VEVENT
BEGIN:VEVENT
DTSTART;TZID=America/New_York:20231010T093000
DTEND;TZID=America/New_York:20231010T103000
DTSTAMP:20260421T103410
CREATED:20230312T040136Z
LAST-MODIFIED:20231128T012323Z
UID:10012483-1696930200-1696933800@leisureknoll.org
SUMMARY:Ladies Tennis
DESCRIPTION:
URL:https://leisureknoll.org/calendar/ladies-tennis-4/2023-10-10/
END:VEVENT
BEGIN:VEVENT
DTSTART;TZID=America/New_York:20231010T110000
DTEND;TZID=America/New_York:20231010T120000
DTSTAMP:20260421T103410
CREATED:20221202T030602Z
LAST-MODIFIED:20260109T025858Z
UID:10009996-1696935600-1696939200@leisureknoll.org
SUMMARY:Ping Pong
DESCRIPTION:11am @ Recreation Hall
URL:https://leisureknoll.org/calendar/ping-pong/2023-10-10/
END:VEVENT
BEGIN:VEVENT
DTSTART;TZID=America/New_York:20231010T123000
DTEND;TZID=America/New_York:20231010T163000
DTSTAMP:20260421T103410
CREATED:20210415T030726Z
LAST-MODIFIED:20240114T192346Z
UID:10010643-1696941000-1696955400@leisureknoll.org
SUMMARY:Bus to Yaphank & Middle Island
DESCRIPTION:Bus to Wal-Mart Yaphank/King Kullen Middle Island shopping center. \nLeaves Leisure Knoll at 12:30pm and returns 4:30pm.
URL:https://leisureknoll.org/calendar/bus-to-middle-island/2023-10-10/
END:VEVENT
BEGIN:VEVENT
DTSTART;TZID=America/New_York:20231010T130000
DTEND;TZID=America/New_York:20231010T140000
DTSTAMP:20260421T103410
CREATED:20230901T003100Z
LAST-MODIFIED:20231012T024343Z
UID:10013252-1696942800-1696946400@leisureknoll.org
SUMMARY:Architectural Committee Meeting
DESCRIPTION:Architectural Committee Meeting | 1-2pm @ Craft Center
URL:https://leisureknoll.org/calendar/architectural-committee-meeting-14/2023-10-10/
END:VEVENT
BEGIN:VEVENT
DTSTART;TZID=America/New_York:20231010T130000
DTEND;TZID=America/New_York:20231010T150000
DTSTAMP:20260421T103410
CREATED:20210416T003503Z
LAST-MODIFIED:20240929T182527Z
UID:10010428-1696942800-1696950000@leisureknoll.org
SUMMARY:Billiards
DESCRIPTION:Recreation Center\, every day except Sunday
URL:https://leisureknoll.org/calendar/billiards/2023-10-10/
END:VEVENT
BEGIN:VEVENT
DTSTART;TZID=America/New_York:20231010T130000
DTEND;TZID=America/New_York:20231010T163000
DTSTAMP:20260421T103410
CREATED:20230312T032638Z
LAST-MODIFIED:20240929T181808Z
UID:10011718-1696942800-1696955400@leisureknoll.org
SUMMARY:Rummikub
DESCRIPTION:Craft Center \n1-4:30pm
URL:https://leisureknoll.org/calendar/rummikub-2-2/2023-10-10/
END:VEVENT
BEGIN:VEVENT
DTSTART;TZID=America/New_York:20231010T183000
DTEND;TZID=America/New_York:20231010T203000
DTSTAMP:20260421T103410
CREATED:20210702T033018Z
LAST-MODIFIED:20230501T195018Z
UID:10010747-1696962600-1696969800@leisureknoll.org
SUMMARY:Mixed Card Game
DESCRIPTION:Craft Center
URL:https://leisureknoll.org/calendar/guys-gals-card-game/2023-10-10/
END:VEVENT
BEGIN:VEVENT
DTSTART;TZID=America/New_York:20231010T190000
DTEND;TZID=America/New_York:20231010T210000
DTSTAMP:20260421T103410
CREATED:20231012T024445Z
LAST-MODIFIED:20231012T024445Z
UID:10013254-1696964400-1696971600@leisureknoll.org
SUMMARY:American Legion Ladies Aux. Mtg.
DESCRIPTION:@ 7pm Rec Center
URL:https://leisureknoll.org/calendar/american-legion-ladies-aux-mtg-4/
END:VEVENT
END:VCALENDAR