BEGIN:VCALENDAR
VERSION:2.0
PRODID:-//Leisure Knoll - ECPv6.15.20//NONSGML v1.0//EN
CALSCALE:GREGORIAN
METHOD:PUBLISH
X-WR-CALNAME:Leisure Knoll
X-ORIGINAL-URL:https://leisureknoll.org
X-WR-CALDESC:Events for Leisure Knoll
REFRESH-INTERVAL;VALUE=DURATION:PT1H
X-Robots-Tag:noindex
X-PUBLISHED-TTL:PT1H
BEGIN:VTIMEZONE
TZID:America/New_York
BEGIN:DAYLIGHT
TZOFFSETFROM:-0500
TZOFFSETTO:-0400
TZNAME:EDT
DTSTART:20220313T070000
END:DAYLIGHT
BEGIN:STANDARD
TZOFFSETFROM:-0400
TZOFFSETTO:-0500
TZNAME:EST
DTSTART:20221106T060000
END:STANDARD
BEGIN:DAYLIGHT
TZOFFSETFROM:-0500
TZOFFSETTO:-0400
TZNAME:EDT
DTSTART:20230312T070000
END:DAYLIGHT
BEGIN:STANDARD
TZOFFSETFROM:-0400
TZOFFSETTO:-0500
TZNAME:EST
DTSTART:20231105T060000
END:STANDARD
BEGIN:DAYLIGHT
TZOFFSETFROM:-0500
TZOFFSETTO:-0400
TZNAME:EDT
DTSTART:20240310T070000
END:DAYLIGHT
BEGIN:STANDARD
TZOFFSETFROM:-0400
TZOFFSETTO:-0500
TZNAME:EST
DTSTART:20241103T060000
END:STANDARD
END:VTIMEZONE
BEGIN:VEVENT
DTSTART;TZID=America/New_York:20231005T090000
DTEND;TZID=America/New_York:20231005T110000
DTSTAMP:20260421T103437
CREATED:20210416T003116Z
LAST-MODIFIED:20260109T025549Z
UID:10009813-1696496400-1696503600@leisureknoll.org
SUMMARY:Wood Shop
DESCRIPTION:
URL:https://leisureknoll.org/calendar/wood-shop/2023-10-05/
END:VEVENT
BEGIN:VEVENT
DTSTART;TZID=America/New_York:20231005T093000
DTEND;TZID=America/New_York:20231005T103000
DTSTAMP:20260421T103437
CREATED:20230312T040136Z
LAST-MODIFIED:20231128T012323Z
UID:10012482-1696498200-1696501800@leisureknoll.org
SUMMARY:Ladies Tennis
DESCRIPTION:
URL:https://leisureknoll.org/calendar/ladies-tennis-4/2023-10-05/
END:VEVENT
BEGIN:VEVENT
DTSTART;TZID=America/New_York:20231005T100000
DTEND;TZID=America/New_York:20231005T130000
DTSTAMP:20260421T103437
CREATED:20210415T031404Z
LAST-MODIFIED:20240114T192421Z
UID:10011110-1696500000-1696510800@leisureknoll.org
SUMMARY:Bus to Port Jefferson Station
DESCRIPTION:Bus to Port Jefferson Station\, Meat Farms\, Shop Rite\, TJ Max shopping center. \nLeaves Leisure Knoll at 10:00 am.
URL:https://leisureknoll.org/calendar/bus-to-port-jefferson-station/2023-10-05/
END:VEVENT
BEGIN:VEVENT
DTSTART;TZID=America/New_York:20231005T101500
DTEND;TZID=America/New_York:20231005T113000
DTSTAMP:20260421T103437
CREATED:20230312T032913Z
LAST-MODIFIED:20230312T032913Z
UID:10011162-1696500900-1696505400@leisureknoll.org
SUMMARY:Bible Study
DESCRIPTION:@ Craft Center
URL:https://leisureknoll.org/calendar/bible-study-2/2023-10-05/
END:VEVENT
BEGIN:VEVENT
DTSTART;TZID=America/New_York:20231005T110000
DTEND;TZID=America/New_York:20231005T120000
DTSTAMP:20260421T103437
CREATED:20221202T030602Z
LAST-MODIFIED:20260109T025858Z
UID:10009994-1696503600-1696507200@leisureknoll.org
SUMMARY:Ping Pong
DESCRIPTION:11am @ Recreation Hall
URL:https://leisureknoll.org/calendar/ping-pong/2023-10-05/
END:VEVENT
BEGIN:VEVENT
DTSTART;TZID=America/New_York:20231005T130000
DTEND;TZID=America/New_York:20231005T150000
DTSTAMP:20260421T103437
CREATED:20210416T003503Z
LAST-MODIFIED:20240929T182527Z
UID:10010424-1696510800-1696518000@leisureknoll.org
SUMMARY:Billiards
DESCRIPTION:Recreation Center\, every day except Sunday
URL:https://leisureknoll.org/calendar/billiards/2023-10-05/
END:VEVENT
BEGIN:VEVENT
DTSTART;TZID=America/New_York:20231005T130000
DTEND;TZID=America/New_York:20231005T150000
DTSTAMP:20260421T103437
CREATED:20210416T010104Z
LAST-MODIFIED:20230106T202026Z
UID:10011214-1696510800-1696518000@leisureknoll.org
SUMMARY:Bridge/Canasta
DESCRIPTION:Craft Center
URL:https://leisureknoll.org/calendar/bridge-canasta/2023-10-05/
END:VEVENT
BEGIN:VEVENT
DTSTART;TZID=America/New_York:20231005T183000
DTEND;TZID=America/New_York:20231005T203000
DTSTAMP:20260421T103437
CREATED:20210702T035015Z
LAST-MODIFIED:20230106T202125Z
UID:10011318-1696530600-1696537800@leisureknoll.org
SUMMARY:Men's Low Stakes Poker
DESCRIPTION:
URL:https://leisureknoll.org/calendar/mens-low-stakes-poker/2023-10-05/
END:VEVENT
BEGIN:VEVENT
DTSTART;TZID=America/New_York:20231005T183000
DTEND;TZID=America/New_York:20231005T203000
DTSTAMP:20260421T103437
CREATED:20230630T032653Z
LAST-MODIFIED:20230630T032653Z
UID:10011266-1696530600-1696537800@leisureknoll.org
SUMMARY:Mixed Games Poker
DESCRIPTION:Craft Center
URL:https://leisureknoll.org/calendar/ladies-poker-2-2/2023-10-05/
END:VEVENT
BEGIN:VEVENT
DTSTART;TZID=America/New_York:20231005T190000
DTEND;TZID=America/New_York:20231005T200000
DTSTAMP:20260421T103437
CREATED:20231012T024142Z
LAST-MODIFIED:20231104T195722Z
UID:10013250-1696532400-1696536000@leisureknoll.org
SUMMARY:Travel Club Meeting
DESCRIPTION:@7pm Rec Center
URL:https://leisureknoll.org/calendar/travel-club-meeting-13/2023-10-05/
END:VEVENT
BEGIN:VEVENT
DTSTART;TZID=America/New_York:20231005T190000
DTEND;TZID=America/New_York:20231005T210000
DTSTAMP:20260421T103437
CREATED:20230312T032808Z
LAST-MODIFIED:20231104T195522Z
UID:10011370-1696532400-1696539600@leisureknoll.org
SUMMARY:Game Night
DESCRIPTION:BYO \n@ 7pm
URL:https://leisureknoll.org/calendar/game-night-2-2/2023-10-05/
END:VEVENT
END:VCALENDAR