BEGIN:VCALENDAR
VERSION:2.0
PRODID:-//Leisure Knoll - ECPv6.15.20//NONSGML v1.0//EN
CALSCALE:GREGORIAN
METHOD:PUBLISH
X-WR-CALNAME:Leisure Knoll
X-ORIGINAL-URL:https://leisureknoll.org
X-WR-CALDESC:Events for Leisure Knoll
REFRESH-INTERVAL;VALUE=DURATION:PT1H
X-Robots-Tag:noindex
X-PUBLISHED-TTL:PT1H
BEGIN:VTIMEZONE
TZID:America/New_York
BEGIN:DAYLIGHT
TZOFFSETFROM:-0500
TZOFFSETTO:-0400
TZNAME:EDT
DTSTART:20220313T070000
END:DAYLIGHT
BEGIN:STANDARD
TZOFFSETFROM:-0400
TZOFFSETTO:-0500
TZNAME:EST
DTSTART:20221106T060000
END:STANDARD
BEGIN:DAYLIGHT
TZOFFSETFROM:-0500
TZOFFSETTO:-0400
TZNAME:EDT
DTSTART:20230312T070000
END:DAYLIGHT
BEGIN:STANDARD
TZOFFSETFROM:-0400
TZOFFSETTO:-0500
TZNAME:EST
DTSTART:20231105T060000
END:STANDARD
BEGIN:DAYLIGHT
TZOFFSETFROM:-0500
TZOFFSETTO:-0400
TZNAME:EDT
DTSTART:20240310T070000
END:DAYLIGHT
BEGIN:STANDARD
TZOFFSETFROM:-0400
TZOFFSETTO:-0500
TZNAME:EST
DTSTART:20241103T060000
END:STANDARD
END:VTIMEZONE
BEGIN:VEVENT
DTSTART;VALUE=DATE:20230911
DTEND;VALUE=DATE:20230912
DTSTAMP:20260422T031340
CREATED:20230901T001738Z
LAST-MODIFIED:20230901T001738Z
UID:10013135-1694390400-1694476799@leisureknoll.org
SUMMARY:9/11 - Never Forget
DESCRIPTION:9/11 – Never Forget
URL:https://leisureknoll.org/calendar/9-11-never-forget/
END:VEVENT
BEGIN:VEVENT
DTSTART;TZID=America/New_York:20230911T090000
DTEND;TZID=America/New_York:20230911T100000
DTSTAMP:20260422T031340
CREATED:20230312T035839Z
LAST-MODIFIED:20231128T012444Z
UID:10012206-1694422800-1694426400@leisureknoll.org
SUMMARY:Tennis Club
DESCRIPTION:
URL:https://leisureknoll.org/calendar/tennis-club/2023-09-11/
END:VEVENT
BEGIN:VEVENT
DTSTART;TZID=America/New_York:20230911T090000
DTEND;TZID=America/New_York:20230911T110000
DTSTAMP:20260422T031340
CREATED:20210416T003116Z
LAST-MODIFIED:20260109T025549Z
UID:10009795-1694422800-1694430000@leisureknoll.org
SUMMARY:Wood Shop
DESCRIPTION:
URL:https://leisureknoll.org/calendar/wood-shop/2023-09-11/
END:VEVENT
BEGIN:VEVENT
DTSTART;TZID=America/New_York:20230911T100000
DTEND;TZID=America/New_York:20230911T110000
DTSTAMP:20260422T031340
CREATED:20220301T013856Z
LAST-MODIFIED:20250101T175615Z
UID:10010103-1694426400-1694430000@leisureknoll.org
SUMMARY:Slimnastics
DESCRIPTION:Recreation Hall
URL:https://leisureknoll.org/calendar/slimnastics-5/2023-09-11/
END:VEVENT
BEGIN:VEVENT
DTSTART;TZID=America/New_York:20230911T110000
DTEND;TZID=America/New_York:20230911T120000
DTSTAMP:20260422T031340
CREATED:20221202T030602Z
LAST-MODIFIED:20260109T025858Z
UID:10009983-1694430000-1694433600@leisureknoll.org
SUMMARY:Ping Pong
DESCRIPTION:11am @ Recreation Hall
URL:https://leisureknoll.org/calendar/ping-pong/2023-09-11/
END:VEVENT
BEGIN:VEVENT
DTSTART;TZID=America/New_York:20230911T120000
DTEND;TZID=America/New_York:20230911T133000
DTSTAMP:20260422T031340
CREATED:20230630T031224Z
LAST-MODIFIED:20260109T030045Z
UID:10012698-1694433600-1694439000@leisureknoll.org
SUMMARY:Canasta
DESCRIPTION:12pm @ Craft Center
URL:https://leisureknoll.org/calendar/canasta/2023-09-11/
END:VEVENT
BEGIN:VEVENT
DTSTART;TZID=America/New_York:20230911T130000
DTEND;TZID=America/New_York:20230911T150000
DTSTAMP:20260422T031340
CREATED:20210416T003503Z
LAST-MODIFIED:20240929T182527Z
UID:10010403-1694437200-1694444400@leisureknoll.org
SUMMARY:Billiards
DESCRIPTION:Recreation Center\, every day except Sunday
URL:https://leisureknoll.org/calendar/billiards/2023-09-11/
END:VEVENT
BEGIN:VEVENT
DTSTART;TZID=America/New_York:20230911T143000
DTEND;TZID=America/New_York:20230911T160000
DTSTAMP:20260422T031340
CREATED:20230630T031357Z
LAST-MODIFIED:20231128T012532Z
UID:10012797-1694442600-1694448000@leisureknoll.org
SUMMARY:Pickleball Club
DESCRIPTION:@ 2:30pm
URL:https://leisureknoll.org/calendar/pickleball-club/2023-09-11/
END:VEVENT
BEGIN:VEVENT
DTSTART;TZID=America/New_York:20230911T180000
DTEND;TZID=America/New_York:20230911T200000
DTSTAMP:20260422T031340
CREATED:20210702T034900Z
LAST-MODIFIED:20240707T191247Z
UID:10016814-1694455200-1694462400@leisureknoll.org
SUMMARY:Ladies Poker
DESCRIPTION:Craft Center
URL:https://leisureknoll.org/calendar/ladies-poker-2021-09-13/2023-09-11/
END:VEVENT
END:VCALENDAR