BEGIN:VCALENDAR
VERSION:2.0
PRODID:-//Leisure Knoll - ECPv6.15.20//NONSGML v1.0//EN
CALSCALE:GREGORIAN
METHOD:PUBLISH
X-WR-CALNAME:Leisure Knoll
X-ORIGINAL-URL:https://leisureknoll.org
X-WR-CALDESC:Events for Leisure Knoll
REFRESH-INTERVAL;VALUE=DURATION:PT1H
X-Robots-Tag:noindex
X-PUBLISHED-TTL:PT1H
BEGIN:VTIMEZONE
TZID:America/New_York
BEGIN:DAYLIGHT
TZOFFSETFROM:-0500
TZOFFSETTO:-0400
TZNAME:EDT
DTSTART:20220313T070000
END:DAYLIGHT
BEGIN:STANDARD
TZOFFSETFROM:-0400
TZOFFSETTO:-0500
TZNAME:EST
DTSTART:20221106T060000
END:STANDARD
BEGIN:DAYLIGHT
TZOFFSETFROM:-0500
TZOFFSETTO:-0400
TZNAME:EDT
DTSTART:20230312T070000
END:DAYLIGHT
BEGIN:STANDARD
TZOFFSETFROM:-0400
TZOFFSETTO:-0500
TZNAME:EST
DTSTART:20231105T060000
END:STANDARD
BEGIN:DAYLIGHT
TZOFFSETFROM:-0500
TZOFFSETTO:-0400
TZNAME:EDT
DTSTART:20240310T070000
END:DAYLIGHT
BEGIN:STANDARD
TZOFFSETFROM:-0400
TZOFFSETTO:-0500
TZNAME:EST
DTSTART:20241103T060000
END:STANDARD
END:VTIMEZONE
BEGIN:VEVENT
DTSTART;VALUE=DATE:20230501
DTEND;VALUE=DATE:20230905
DTSTAMP:20260422T063049
CREATED:20230501T201015Z
LAST-MODIFIED:20230501T201145Z
UID:10012653-1682899200-1693871999@leisureknoll.org
SUMMARY:Pool Open 5/27/23 - 9/4/23
DESCRIPTION:POOL HOURS ADULTS & ADULT GUESTS \n\n\n\n\nMay 27th-June 24th  \n\nSat.-Thurs: 10:00am-5:15pm\nFri:10:00am-6:30pm\n\n\n\nJune 25th-Sept. 4th  \n\nSat.-Thurs:10:00am-6:45pm\nFri:10:00am-6:30pm\n\n\n\n\n\nCHILDREN’S HOURS (AGES 4 THROUGH 12) \n\nMon\, Wed\, Fri: 11:30am-2:00pm & 4:00pm-5:15pm\nSaturday & Sunday: 12:00pm-4:00pm\n\nOnce lifeguard off–duty\, pool will remain open until 9pm (RESIDENTS ONLY\, NO CHILDREN—swim at your own risk)
URL:https://leisureknoll.org/calendar/pool-open-5-27-23-9-4-23/
END:VEVENT
BEGIN:VEVENT
DTSTART;VALUE=DATE:20230822
DTEND;VALUE=DATE:20230823
DTSTAMP:20260422T063049
CREATED:20210416T001302Z
LAST-MODIFIED:20251215T033850Z
UID:10009524-1692662400-1692748799@leisureknoll.org
SUMMARY:Garbage Pick Up
DESCRIPTION:GARBAGE P/U -WINTERS BROS. WASTE – 631-491-4923\nGarbage pick up Tues. & Fri. except holidays Confirm Bulk P/U (on Thursday) with Winters Brothers
URL:https://leisureknoll.org/calendar/garbage-pick-up-fri/2023-08-22/
END:VEVENT
BEGIN:VEVENT
DTSTART;TZID=America/New_York:20230822T090000
DTEND;TZID=America/New_York:20230822T110000
DTSTAMP:20260422T063049
CREATED:20210416T003116Z
LAST-MODIFIED:20260109T025549Z
UID:10009781-1692694800-1692702000@leisureknoll.org
SUMMARY:Wood Shop
DESCRIPTION:
URL:https://leisureknoll.org/calendar/wood-shop/2023-08-22/
END:VEVENT
BEGIN:VEVENT
DTSTART;TZID=America/New_York:20230822T093000
DTEND;TZID=America/New_York:20230822T103000
DTSTAMP:20260422T063049
CREATED:20230312T040136Z
LAST-MODIFIED:20231128T012323Z
UID:10012469-1692696600-1692700200@leisureknoll.org
SUMMARY:Ladies Tennis
DESCRIPTION:
URL:https://leisureknoll.org/calendar/ladies-tennis-4/2023-08-22/
END:VEVENT
BEGIN:VEVENT
DTSTART;TZID=America/New_York:20230822T110000
DTEND;TZID=America/New_York:20230822T120000
DTSTAMP:20260422T063049
CREATED:20221202T030602Z
LAST-MODIFIED:20260109T025858Z
UID:10009975-1692702000-1692705600@leisureknoll.org
SUMMARY:Ping Pong
DESCRIPTION:11am @ Recreation Hall
URL:https://leisureknoll.org/calendar/ping-pong/2023-08-22/
END:VEVENT
BEGIN:VEVENT
DTSTART;TZID=America/New_York:20230822T123000
DTEND;TZID=America/New_York:20230822T163000
DTSTAMP:20260422T063049
CREATED:20210415T030726Z
LAST-MODIFIED:20240114T192346Z
UID:10010636-1692707400-1692721800@leisureknoll.org
SUMMARY:Bus to Yaphank & Middle Island
DESCRIPTION:Bus to Wal-Mart Yaphank/King Kullen Middle Island shopping center. \nLeaves Leisure Knoll at 12:30pm and returns 4:30pm.
URL:https://leisureknoll.org/calendar/bus-to-middle-island/2023-08-22/
END:VEVENT
BEGIN:VEVENT
DTSTART;TZID=America/New_York:20230822T130000
DTEND;TZID=America/New_York:20230822T140000
DTSTAMP:20260422T063049
CREATED:20230617T024529Z
LAST-MODIFIED:20230805T014341Z
UID:10013015-1692709200-1692712800@leisureknoll.org
SUMMARY:Architectural Committee Meeting
DESCRIPTION:1-2pm @ Craft Center
URL:https://leisureknoll.org/calendar/architectural-committee-meeting-13/2023-08-22/
END:VEVENT
BEGIN:VEVENT
DTSTART;TZID=America/New_York:20230822T130000
DTEND;TZID=America/New_York:20230822T150000
DTSTAMP:20260422T063049
CREATED:20210416T003503Z
LAST-MODIFIED:20240929T182527Z
UID:10010386-1692709200-1692716400@leisureknoll.org
SUMMARY:Billiards
DESCRIPTION:Recreation Center\, every day except Sunday
URL:https://leisureknoll.org/calendar/billiards/2023-08-22/
END:VEVENT
BEGIN:VEVENT
DTSTART;TZID=America/New_York:20230822T130000
DTEND;TZID=America/New_York:20230822T163000
DTSTAMP:20260422T063049
CREATED:20230312T032638Z
LAST-MODIFIED:20240929T181808Z
UID:10011711-1692709200-1692721800@leisureknoll.org
SUMMARY:Rummikub
DESCRIPTION:Craft Center \n1-4:30pm
URL:https://leisureknoll.org/calendar/rummikub-2-2/2023-08-22/
END:VEVENT
BEGIN:VEVENT
DTSTART;TZID=America/New_York:20230822T183000
DTEND;TZID=America/New_York:20230822T203000
DTSTAMP:20260422T063049
CREATED:20210702T033018Z
LAST-MODIFIED:20230501T195018Z
UID:10010740-1692729000-1692736200@leisureknoll.org
SUMMARY:Mixed Card Game
DESCRIPTION:Craft Center
URL:https://leisureknoll.org/calendar/guys-gals-card-game/2023-08-22/
END:VEVENT
END:VCALENDAR