BEGIN:VCALENDAR
VERSION:2.0
PRODID:-//Leisure Knoll - ECPv6.15.20//NONSGML v1.0//EN
CALSCALE:GREGORIAN
METHOD:PUBLISH
X-ORIGINAL-URL:https://leisureknoll.org
X-WR-CALDESC:Events for Leisure Knoll
REFRESH-INTERVAL;VALUE=DURATION:PT1H
X-Robots-Tag:noindex
X-PUBLISHED-TTL:PT1H
BEGIN:VTIMEZONE
TZID:America/New_York
BEGIN:DAYLIGHT
TZOFFSETFROM:-0500
TZOFFSETTO:-0400
TZNAME:EDT
DTSTART:20220313T070000
END:DAYLIGHT
BEGIN:STANDARD
TZOFFSETFROM:-0400
TZOFFSETTO:-0500
TZNAME:EST
DTSTART:20221106T060000
END:STANDARD
BEGIN:DAYLIGHT
TZOFFSETFROM:-0500
TZOFFSETTO:-0400
TZNAME:EDT
DTSTART:20230312T070000
END:DAYLIGHT
BEGIN:STANDARD
TZOFFSETFROM:-0400
TZOFFSETTO:-0500
TZNAME:EST
DTSTART:20231105T060000
END:STANDARD
BEGIN:DAYLIGHT
TZOFFSETFROM:-0500
TZOFFSETTO:-0400
TZNAME:EDT
DTSTART:20240310T070000
END:DAYLIGHT
BEGIN:STANDARD
TZOFFSETFROM:-0400
TZOFFSETTO:-0500
TZNAME:EST
DTSTART:20241103T060000
END:STANDARD
END:VTIMEZONE
BEGIN:VEVENT
DTSTART;VALUE=DATE:20230501
DTEND;VALUE=DATE:20230905
DTSTAMP:20260423T045941
CREATED:20230501T201015Z
LAST-MODIFIED:20230501T201145Z
UID:10012653-1682899200-1693871999@leisureknoll.org
SUMMARY:Pool Open 5/27/23 - 9/4/23
DESCRIPTION:POOL HOURS ADULTS & ADULT GUESTS \n\n\n\n\nMay 27th-June 24th  \n\nSat.-Thurs: 10:00am-5:15pm\nFri:10:00am-6:30pm\n\n\n\nJune 25th-Sept. 4th  \n\nSat.-Thurs:10:00am-6:45pm\nFri:10:00am-6:30pm\n\n\n\n\n\nCHILDREN’S HOURS (AGES 4 THROUGH 12) \n\nMon\, Wed\, Fri: 11:30am-2:00pm & 4:00pm-5:15pm\nSaturday & Sunday: 12:00pm-4:00pm\n\nOnce lifeguard off–duty\, pool will remain open until 9pm (RESIDENTS ONLY\, NO CHILDREN—swim at your own risk)
URL:https://leisureknoll.org/calendar/pool-open-5-27-23-9-4-23/
END:VEVENT
BEGIN:VEVENT
DTSTART;VALUE=DATE:20230705
DTEND;VALUE=DATE:20230706
DTSTAMP:20260423T045941
CREATED:20230630T034246Z
LAST-MODIFIED:20230630T034246Z
UID:10012997-1688515200-1688601599@leisureknoll.org
SUMMARY:Garbage Pick Up
DESCRIPTION:In lieu of July 4th pick up
URL:https://leisureknoll.org/calendar/garbage-pick-up/
END:VEVENT
BEGIN:VEVENT
DTSTART;TZID=America/New_York:20230705T090000
DTEND;TZID=America/New_York:20230705T100000
DTSTAMP:20260423T045941
CREATED:20230312T035839Z
LAST-MODIFIED:20231128T012444Z
UID:10012167-1688547600-1688551200@leisureknoll.org
SUMMARY:Tennis Club
DESCRIPTION:
URL:https://leisureknoll.org/calendar/tennis-club/2023-07-05/
END:VEVENT
BEGIN:VEVENT
DTSTART;TZID=America/New_York:20230705T090000
DTEND;TZID=America/New_York:20230705T110000
DTSTAMP:20260423T045941
CREATED:20210416T003116Z
LAST-MODIFIED:20260109T025549Z
UID:10009747-1688547600-1688554800@leisureknoll.org
SUMMARY:Wood Shop
DESCRIPTION:
URL:https://leisureknoll.org/calendar/wood-shop/2023-07-05/
END:VEVENT
BEGIN:VEVENT
DTSTART;TZID=America/New_York:20230705T093000
DTEND;TZID=America/New_York:20230705T113000
DTSTAMP:20260423T045941
CREATED:20210901T030231Z
LAST-MODIFIED:20260109T030159Z
UID:10010785-1688549400-1688556600@leisureknoll.org
SUMMARY:Art Club
DESCRIPTION:Craft Room
URL:https://leisureknoll.org/calendar/art-club/2023-07-05/
END:VEVENT
BEGIN:VEVENT
DTSTART;TZID=America/New_York:20230705T100000
DTEND;TZID=America/New_York:20230705T110000
DTSTAMP:20260423T045941
CREATED:20220301T013856Z
LAST-MODIFIED:20250101T175615Z
UID:10010084-1688551200-1688554800@leisureknoll.org
SUMMARY:Slimnastics
DESCRIPTION:Recreation Hall
URL:https://leisureknoll.org/calendar/slimnastics-5/2023-07-05/
END:VEVENT
BEGIN:VEVENT
DTSTART;TZID=America/New_York:20230705T113000
DTEND;TZID=America/New_York:20230705T143000
DTSTAMP:20260423T045941
CREATED:20230617T023550Z
LAST-MODIFIED:20230617T023550Z
UID:10010837-1688556600-1688567400@leisureknoll.org
SUMMARY:Men's Bowling
DESCRIPTION:@ 11:30am
URL:https://leisureknoll.org/calendar/mens-bowling-2021-09-15-2/2023-07-05/
END:VEVENT
BEGIN:VEVENT
DTSTART;TZID=America/New_York:20230705T130000
DTEND;TZID=America/New_York:20230705T150000
DTSTAMP:20260423T045941
CREATED:20210416T003503Z
LAST-MODIFIED:20240929T182527Z
UID:10010345-1688562000-1688569200@leisureknoll.org
SUMMARY:Billiards
DESCRIPTION:Recreation Center\, every day except Sunday
URL:https://leisureknoll.org/calendar/billiards/2023-07-05/
END:VEVENT
BEGIN:VEVENT
DTSTART;TZID=America/New_York:20230705T130000
DTEND;TZID=America/New_York:20230705T150000
DTSTAMP:20260423T045941
CREATED:20210416T005743Z
LAST-MODIFIED:20260109T030323Z
UID:10010889-1688562000-1688569200@leisureknoll.org
SUMMARY:Bridge
DESCRIPTION:Craft Center
URL:https://leisureknoll.org/calendar/bridge/2023-07-05/
END:VEVENT
BEGIN:VEVENT
DTSTART;TZID=America/New_York:20230705T130000
DTEND;TZID=America/New_York:20230705T150000
DTSTAMP:20260423T045941
CREATED:20230630T032412Z
LAST-MODIFIED:20230630T032412Z
UID:10012964-1688562000-1688569200@leisureknoll.org
SUMMARY:Knitting for Charity
DESCRIPTION:1pm @ Craft Center
URL:https://leisureknoll.org/calendar/knitting-for-charity-2/2023-07-05/
END:VEVENT
BEGIN:VEVENT
DTSTART;TZID=America/New_York:20230705T143000
DTEND;TZID=America/New_York:20230705T160000
DTSTAMP:20260423T045941
CREATED:20230630T031357Z
LAST-MODIFIED:20231128T012532Z
UID:10012768-1688567400-1688572800@leisureknoll.org
SUMMARY:Pickleball Club
DESCRIPTION:@ 2:30pm
URL:https://leisureknoll.org/calendar/pickleball-club/2023-07-05/
END:VEVENT
BEGIN:VEVENT
DTSTART;TZID=America/New_York:20230705T180000
DTEND;TZID=America/New_York:20230705T200000
DTSTAMP:20260423T045941
CREATED:20210416T005957Z
LAST-MODIFIED:20240929T182030Z
UID:10010993-1688580000-1688587200@leisureknoll.org
SUMMARY:Men's Poker
DESCRIPTION:Craft Center
URL:https://leisureknoll.org/calendar/mens-poker-2022-08-31/2023-07-05/
END:VEVENT
BEGIN:VEVENT
DTSTART;TZID=America/New_York:20230705T184500
DTEND;TZID=America/New_York:20230705T204500
DTSTAMP:20260423T045942
CREATED:20210505T022532Z
LAST-MODIFIED:20260109T031152Z
UID:10011045-1688582700-1688589900@leisureknoll.org
SUMMARY:Dominoes
DESCRIPTION:Recreation Hall
URL:https://leisureknoll.org/calendar/dominoes/2023-07-05/
END:VEVENT
END:VCALENDAR