BEGIN:VCALENDAR
VERSION:2.0
PRODID:-//Leisure Knoll - ECPv6.15.20//NONSGML v1.0//EN
CALSCALE:GREGORIAN
METHOD:PUBLISH
X-ORIGINAL-URL:https://leisureknoll.org
X-WR-CALDESC:Events for Leisure Knoll
REFRESH-INTERVAL;VALUE=DURATION:PT1H
X-Robots-Tag:noindex
X-PUBLISHED-TTL:PT1H
BEGIN:VTIMEZONE
TZID:America/New_York
BEGIN:DAYLIGHT
TZOFFSETFROM:-0500
TZOFFSETTO:-0400
TZNAME:EDT
DTSTART:20220313T070000
END:DAYLIGHT
BEGIN:STANDARD
TZOFFSETFROM:-0400
TZOFFSETTO:-0500
TZNAME:EST
DTSTART:20221106T060000
END:STANDARD
BEGIN:DAYLIGHT
TZOFFSETFROM:-0500
TZOFFSETTO:-0400
TZNAME:EDT
DTSTART:20230312T070000
END:DAYLIGHT
BEGIN:STANDARD
TZOFFSETFROM:-0400
TZOFFSETTO:-0500
TZNAME:EST
DTSTART:20231105T060000
END:STANDARD
BEGIN:DAYLIGHT
TZOFFSETFROM:-0500
TZOFFSETTO:-0400
TZNAME:EDT
DTSTART:20240310T070000
END:DAYLIGHT
BEGIN:STANDARD
TZOFFSETFROM:-0400
TZOFFSETTO:-0500
TZNAME:EST
DTSTART:20241103T060000
END:STANDARD
END:VTIMEZONE
BEGIN:VEVENT
DTSTART;VALUE=DATE:20230501
DTEND;VALUE=DATE:20230905
DTSTAMP:20260423T045945
CREATED:20230501T201015Z
LAST-MODIFIED:20230501T201145Z
UID:10012653-1682899200-1693871999@leisureknoll.org
SUMMARY:Pool Open 5/27/23 - 9/4/23
DESCRIPTION:POOL HOURS ADULTS & ADULT GUESTS \n\n\n\n\nMay 27th-June 24th  \n\nSat.-Thurs: 10:00am-5:15pm\nFri:10:00am-6:30pm\n\n\n\nJune 25th-Sept. 4th  \n\nSat.-Thurs:10:00am-6:45pm\nFri:10:00am-6:30pm\n\n\n\n\n\nCHILDREN’S HOURS (AGES 4 THROUGH 12) \n\nMon\, Wed\, Fri: 11:30am-2:00pm & 4:00pm-5:15pm\nSaturday & Sunday: 12:00pm-4:00pm\n\nOnce lifeguard off–duty\, pool will remain open until 9pm (RESIDENTS ONLY\, NO CHILDREN—swim at your own risk)
URL:https://leisureknoll.org/calendar/pool-open-5-27-23-9-4-23/
END:VEVENT
BEGIN:VEVENT
DTSTART;TZID=America/New_York:20230701T090000
DTEND;TZID=America/New_York:20230701T100000
DTSTAMP:20260423T045945
CREATED:20230312T035839Z
LAST-MODIFIED:20231128T012444Z
UID:10012165-1688202000-1688205600@leisureknoll.org
SUMMARY:Tennis Club
DESCRIPTION:
URL:https://leisureknoll.org/calendar/tennis-club/2023-07-01/
END:VEVENT
BEGIN:VEVENT
DTSTART;TZID=America/New_York:20230701T103000
DTEND;TZID=America/New_York:20230701T113000
DTSTAMP:20260423T045945
CREATED:20230630T033742Z
LAST-MODIFIED:20230630T033742Z
UID:10012994-1688207400-1688211000@leisureknoll.org
SUMMARY:Ent. Committee Ticket Sale\, August Comedy Show
DESCRIPTION:@ 10:30-11:30am Craft Center
URL:https://leisureknoll.org/calendar/ent-committee-ticket-sale-august-comedy-show/
END:VEVENT
BEGIN:VEVENT
DTSTART;TZID=America/New_York:20230701T130000
DTEND;TZID=America/New_York:20230701T150000
DTSTAMP:20260423T045945
CREATED:20210416T003503Z
LAST-MODIFIED:20240929T182527Z
UID:10010342-1688216400-1688223600@leisureknoll.org
SUMMARY:Billiards
DESCRIPTION:Recreation Center\, every day except Sunday
URL:https://leisureknoll.org/calendar/billiards/2023-07-01/
END:VEVENT
END:VCALENDAR