BEGIN:VCALENDAR
VERSION:2.0
PRODID:-//Leisure Knoll - ECPv6.15.20//NONSGML v1.0//EN
CALSCALE:GREGORIAN
METHOD:PUBLISH
X-WR-CALNAME:Leisure Knoll
X-ORIGINAL-URL:https://leisureknoll.org
X-WR-CALDESC:Events for Leisure Knoll
REFRESH-INTERVAL;VALUE=DURATION:PT1H
X-Robots-Tag:noindex
X-PUBLISHED-TTL:PT1H
BEGIN:VTIMEZONE
TZID:America/New_York
BEGIN:DAYLIGHT
TZOFFSETFROM:-0500
TZOFFSETTO:-0400
TZNAME:EDT
DTSTART:20220313T070000
END:DAYLIGHT
BEGIN:STANDARD
TZOFFSETFROM:-0400
TZOFFSETTO:-0500
TZNAME:EST
DTSTART:20221106T060000
END:STANDARD
BEGIN:DAYLIGHT
TZOFFSETFROM:-0500
TZOFFSETTO:-0400
TZNAME:EDT
DTSTART:20230312T070000
END:DAYLIGHT
BEGIN:STANDARD
TZOFFSETFROM:-0400
TZOFFSETTO:-0500
TZNAME:EST
DTSTART:20231105T060000
END:STANDARD
BEGIN:DAYLIGHT
TZOFFSETFROM:-0500
TZOFFSETTO:-0400
TZNAME:EDT
DTSTART:20240310T070000
END:DAYLIGHT
BEGIN:STANDARD
TZOFFSETFROM:-0400
TZOFFSETTO:-0500
TZNAME:EST
DTSTART:20241103T060000
END:STANDARD
END:VTIMEZONE
BEGIN:VEVENT
DTSTART;VALUE=DATE:20230501
DTEND;VALUE=DATE:20230905
DTSTAMP:20260423T045812
CREATED:20230501T201015Z
LAST-MODIFIED:20230501T201145Z
UID:10012653-1682899200-1693871999@leisureknoll.org
SUMMARY:Pool Open 5/27/23 - 9/4/23
DESCRIPTION:POOL HOURS ADULTS & ADULT GUESTS \n\n\n\n\nMay 27th-June 24th  \n\nSat.-Thurs: 10:00am-5:15pm\nFri:10:00am-6:30pm\n\n\n\nJune 25th-Sept. 4th  \n\nSat.-Thurs:10:00am-6:45pm\nFri:10:00am-6:30pm\n\n\n\n\n\nCHILDREN’S HOURS (AGES 4 THROUGH 12) \n\nMon\, Wed\, Fri: 11:30am-2:00pm & 4:00pm-5:15pm\nSaturday & Sunday: 12:00pm-4:00pm\n\nOnce lifeguard off–duty\, pool will remain open until 9pm (RESIDENTS ONLY\, NO CHILDREN—swim at your own risk)
URL:https://leisureknoll.org/calendar/pool-open-5-27-23-9-4-23/
END:VEVENT
BEGIN:VEVENT
DTSTART;VALUE=DATE:20230627
DTEND;VALUE=DATE:20230628
DTSTAMP:20260423T045812
CREATED:20210416T001302Z
LAST-MODIFIED:20251215T033850Z
UID:10009508-1687824000-1687910399@leisureknoll.org
SUMMARY:Garbage Pick Up
DESCRIPTION:GARBAGE P/U -WINTERS BROS. WASTE – 631-491-4923\nGarbage pick up Tues. & Fri. except holidays Confirm Bulk P/U (on Thursday) with Winters Brothers
URL:https://leisureknoll.org/calendar/garbage-pick-up-fri/2023-06-27/
END:VEVENT
BEGIN:VEVENT
DTSTART;TZID=America/New_York:20230627T090000
DTEND;TZID=America/New_York:20230627T110000
DTSTAMP:20260423T045812
CREATED:20210416T003116Z
LAST-MODIFIED:20260109T025549Z
UID:10009741-1687856400-1687863600@leisureknoll.org
SUMMARY:Wood Shop
DESCRIPTION:
URL:https://leisureknoll.org/calendar/wood-shop/2023-06-27/
END:VEVENT
BEGIN:VEVENT
DTSTART;TZID=America/New_York:20230627T093000
DTEND;TZID=America/New_York:20230627T103000
DTSTAMP:20260423T045812
CREATED:20230312T040136Z
LAST-MODIFIED:20231128T012323Z
UID:10012453-1687858200-1687861800@leisureknoll.org
SUMMARY:Ladies Tennis
DESCRIPTION:
URL:https://leisureknoll.org/calendar/ladies-tennis-4/2023-06-27/
END:VEVENT
BEGIN:VEVENT
DTSTART;TZID=America/New_York:20230627T123000
DTEND;TZID=America/New_York:20230627T163000
DTSTAMP:20260423T045812
CREATED:20210415T030726Z
LAST-MODIFIED:20240114T192346Z
UID:10010628-1687869000-1687883400@leisureknoll.org
SUMMARY:Bus to Yaphank & Middle Island
DESCRIPTION:Bus to Wal-Mart Yaphank/King Kullen Middle Island shopping center. \nLeaves Leisure Knoll at 12:30pm and returns 4:30pm.
URL:https://leisureknoll.org/calendar/bus-to-middle-island/2023-06-27/
END:VEVENT
BEGIN:VEVENT
DTSTART;TZID=America/New_York:20230627T130000
DTEND;TZID=America/New_York:20230627T140000
DTSTAMP:20260423T045812
CREATED:20230617T024529Z
LAST-MODIFIED:20230805T014341Z
UID:10012681-1687870800-1687874400@leisureknoll.org
SUMMARY:Architectural Committee Meeting
DESCRIPTION:1-2pm @ Craft Center
URL:https://leisureknoll.org/calendar/architectural-committee-meeting-13/2023-06-27/
END:VEVENT
BEGIN:VEVENT
DTSTART;TZID=America/New_York:20230627T130000
DTEND;TZID=America/New_York:20230627T163000
DTSTAMP:20260423T045812
CREATED:20230312T032638Z
LAST-MODIFIED:20240929T181808Z
UID:10011703-1687870800-1687883400@leisureknoll.org
SUMMARY:Rummikub
DESCRIPTION:Craft Center \n1-4:30pm
URL:https://leisureknoll.org/calendar/rummikub-2-2/2023-06-27/
END:VEVENT
BEGIN:VEVENT
DTSTART;TZID=America/New_York:20230627T183000
DTEND;TZID=America/New_York:20230627T203000
DTSTAMP:20260423T045812
CREATED:20210702T033018Z
LAST-MODIFIED:20230501T195018Z
UID:10010732-1687890600-1687897800@leisureknoll.org
SUMMARY:Mixed Card Game
DESCRIPTION:Craft Center
URL:https://leisureknoll.org/calendar/guys-gals-card-game/2023-06-27/
END:VEVENT
END:VCALENDAR