BEGIN:VCALENDAR
VERSION:2.0
PRODID:-//Leisure Knoll - ECPv6.15.20//NONSGML v1.0//EN
CALSCALE:GREGORIAN
METHOD:PUBLISH
X-WR-CALNAME:Leisure Knoll
X-ORIGINAL-URL:https://leisureknoll.org
X-WR-CALDESC:Events for Leisure Knoll
REFRESH-INTERVAL;VALUE=DURATION:PT1H
X-Robots-Tag:noindex
X-PUBLISHED-TTL:PT1H
BEGIN:VTIMEZONE
TZID:America/New_York
BEGIN:DAYLIGHT
TZOFFSETFROM:-0500
TZOFFSETTO:-0400
TZNAME:EDT
DTSTART:20220313T070000
END:DAYLIGHT
BEGIN:STANDARD
TZOFFSETFROM:-0400
TZOFFSETTO:-0500
TZNAME:EST
DTSTART:20221106T060000
END:STANDARD
BEGIN:DAYLIGHT
TZOFFSETFROM:-0500
TZOFFSETTO:-0400
TZNAME:EDT
DTSTART:20230312T070000
END:DAYLIGHT
BEGIN:STANDARD
TZOFFSETFROM:-0400
TZOFFSETTO:-0500
TZNAME:EST
DTSTART:20231105T060000
END:STANDARD
BEGIN:DAYLIGHT
TZOFFSETFROM:-0500
TZOFFSETTO:-0400
TZNAME:EDT
DTSTART:20240310T070000
END:DAYLIGHT
BEGIN:STANDARD
TZOFFSETFROM:-0400
TZOFFSETTO:-0500
TZNAME:EST
DTSTART:20241103T060000
END:STANDARD
END:VTIMEZONE
BEGIN:VEVENT
DTSTART;TZID=America/New_York:20230406T090000
DTEND;TZID=America/New_York:20230406T110000
DTSTAMP:20260424T182446
CREATED:20210416T003116Z
LAST-MODIFIED:20260109T025549Z
UID:10009683-1680771600-1680778800@leisureknoll.org
SUMMARY:Wood Shop
DESCRIPTION:
URL:https://leisureknoll.org/calendar/wood-shop/2023-04-06/
END:VEVENT
BEGIN:VEVENT
DTSTART;TZID=America/New_York:20230406T093000
DTEND;TZID=America/New_York:20230406T103000
DTSTAMP:20260424T182446
CREATED:20230312T040136Z
LAST-MODIFIED:20231128T012323Z
UID:10012430-1680773400-1680777000@leisureknoll.org
SUMMARY:Ladies Tennis
DESCRIPTION:
URL:https://leisureknoll.org/calendar/ladies-tennis-4/2023-04-06/
END:VEVENT
BEGIN:VEVENT
DTSTART;TZID=America/New_York:20230406T100000
DTEND;TZID=America/New_York:20230406T130000
DTSTAMP:20260424T182446
CREATED:20210415T031404Z
LAST-MODIFIED:20240114T192421Z
UID:10011084-1680775200-1680786000@leisureknoll.org
SUMMARY:Bus to Port Jefferson Station
DESCRIPTION:Bus to Port Jefferson Station\, Meat Farms\, Shop Rite\, TJ Max shopping center. \nLeaves Leisure Knoll at 10:00 am.
URL:https://leisureknoll.org/calendar/bus-to-port-jefferson-station/2023-04-06/
END:VEVENT
BEGIN:VEVENT
DTSTART;TZID=America/New_York:20230406T110000
DTEND;TZID=America/New_York:20230406T120000
DTSTAMP:20260424T182446
CREATED:20221202T030602Z
LAST-MODIFIED:20260109T025858Z
UID:10009916-1680778800-1680782400@leisureknoll.org
SUMMARY:Ping Pong
DESCRIPTION:11am @ Recreation Hall
URL:https://leisureknoll.org/calendar/ping-pong/2023-04-06/
END:VEVENT
BEGIN:VEVENT
DTSTART;TZID=America/New_York:20230406T130000
DTEND;TZID=America/New_York:20230406T150000
DTSTAMP:20260424T182446
CREATED:20210416T003503Z
LAST-MODIFIED:20240929T182527Z
UID:10010268-1680786000-1680793200@leisureknoll.org
SUMMARY:Billiards
DESCRIPTION:Recreation Center\, every day except Sunday
URL:https://leisureknoll.org/calendar/billiards/2023-04-06/
END:VEVENT
BEGIN:VEVENT
DTSTART;TZID=America/New_York:20230406T130000
DTEND;TZID=America/New_York:20230406T150000
DTSTAMP:20260424T182446
CREATED:20210416T010104Z
LAST-MODIFIED:20230106T202026Z
UID:10011188-1680786000-1680793200@leisureknoll.org
SUMMARY:Bridge/Canasta
DESCRIPTION:Craft Center
URL:https://leisureknoll.org/calendar/bridge-canasta/2023-04-06/
END:VEVENT
BEGIN:VEVENT
DTSTART;TZID=America/New_York:20230406T170000
DTEND;TZID=America/New_York:20230406T190000
DTSTAMP:20260424T182446
CREATED:20230403T001037Z
LAST-MODIFIED:20230403T232234Z
UID:10012609-1680800400-1680807600@leisureknoll.org
SUMMARY:Bocce Sign Up
DESCRIPTION:5-7pm @ Craft Center
URL:https://leisureknoll.org/calendar/bocce-sign-up-4/
END:VEVENT
BEGIN:VEVENT
DTSTART;TZID=America/New_York:20230406T183000
DTEND;TZID=America/New_York:20230406T203000
DTSTAMP:20260424T182446
CREATED:20210702T035015Z
LAST-MODIFIED:20230106T202125Z
UID:10011292-1680805800-1680813000@leisureknoll.org
SUMMARY:Men's Low Stakes Poker
DESCRIPTION:
URL:https://leisureknoll.org/calendar/mens-low-stakes-poker/2023-04-06/
END:VEVENT
BEGIN:VEVENT
DTSTART;TZID=America/New_York:20230406T183000
DTEND;TZID=America/New_York:20230406T203000
DTSTAMP:20260424T182446
CREATED:20211209T025554Z
LAST-MODIFIED:20230106T202058Z
UID:10011240-1680805800-1680813000@leisureknoll.org
SUMMARY:Ladies Poker
DESCRIPTION:Craft Center
URL:https://leisureknoll.org/calendar/ladies-poker-2/2023-04-06/
END:VEVENT
BEGIN:VEVENT
DTSTART;TZID=America/New_York:20230406T190000
DTEND;TZID=America/New_York:20230406T203000
DTSTAMP:20260424T182446
CREATED:20230403T000121Z
LAST-MODIFIED:20230501T195625Z
UID:10012600-1680807600-1680813000@leisureknoll.org
SUMMARY:Travel Club Meeting
DESCRIPTION:7pm @ Rec Center
URL:https://leisureknoll.org/calendar/travel-club-meeting-10/2023-04-06/
END:VEVENT
BEGIN:VEVENT
DTSTART;TZID=America/New_York:20230406T190000
DTEND;TZID=America/New_York:20230406T210000
DTSTAMP:20260424T182446
CREATED:20230312T032808Z
LAST-MODIFIED:20231104T195522Z
UID:10011344-1680807600-1680814800@leisureknoll.org
SUMMARY:Game Night
DESCRIPTION:BYO \n@ 7pm
URL:https://leisureknoll.org/calendar/game-night-2-2/2023-04-06/
END:VEVENT
END:VCALENDAR