BEGIN:VCALENDAR
VERSION:2.0
PRODID:-//Leisure Knoll - ECPv6.15.20//NONSGML v1.0//EN
CALSCALE:GREGORIAN
METHOD:PUBLISH
X-WR-CALNAME:Leisure Knoll
X-ORIGINAL-URL:https://leisureknoll.org
X-WR-CALDESC:Events for Leisure Knoll
REFRESH-INTERVAL;VALUE=DURATION:PT1H
X-Robots-Tag:noindex
X-PUBLISHED-TTL:PT1H
BEGIN:VTIMEZONE
TZID:America/New_York
BEGIN:DAYLIGHT
TZOFFSETFROM:-0500
TZOFFSETTO:-0400
TZNAME:EDT
DTSTART:20200308T070000
END:DAYLIGHT
BEGIN:STANDARD
TZOFFSETFROM:-0400
TZOFFSETTO:-0500
TZNAME:EST
DTSTART:20201101T060000
END:STANDARD
BEGIN:DAYLIGHT
TZOFFSETFROM:-0500
TZOFFSETTO:-0400
TZNAME:EDT
DTSTART:20210314T070000
END:DAYLIGHT
BEGIN:STANDARD
TZOFFSETFROM:-0400
TZOFFSETTO:-0500
TZNAME:EST
DTSTART:20211107T060000
END:STANDARD
BEGIN:DAYLIGHT
TZOFFSETFROM:-0500
TZOFFSETTO:-0400
TZNAME:EDT
DTSTART:20220313T070000
END:DAYLIGHT
BEGIN:STANDARD
TZOFFSETFROM:-0400
TZOFFSETTO:-0500
TZNAME:EST
DTSTART:20221106T060000
END:STANDARD
END:VTIMEZONE
BEGIN:VEVENT
DTSTART;VALUE=DATE:20210425
DTEND;VALUE=DATE:20210502
DTSTAMP:20260425T095218
CREATED:20210416T000056Z
LAST-MODIFIED:20220508T163151Z
UID:10004531-1619308800-1619913599@leisureknoll.org
SUMMARY:First Bus Stop #25
DESCRIPTION:The bus will begin at stop #25 and proceed to stop #1.
URL:https://leisureknoll.org/calendar/first-bus-stop-25/2021-04-25/
END:VEVENT
BEGIN:VEVENT
DTSTART;VALUE=DATE:20210430
DTEND;VALUE=DATE:20210501
DTSTAMP:20260425T095218
CREATED:20210416T001302Z
LAST-MODIFIED:20251215T033850Z
UID:10004629-1619740800-1619827199@leisureknoll.org
SUMMARY:Garbage Pick Up
DESCRIPTION:GARBAGE P/U -WINTERS BROS. WASTE – 631-491-4923\nGarbage pick up Tues. & Fri. except holidays Confirm Bulk P/U (on Thursday) with Winters Brothers
URL:https://leisureknoll.org/calendar/garbage-pick-up-fri/2021-04-30/
END:VEVENT
BEGIN:VEVENT
DTSTART;TZID=America/New_York:20210430T090000
DTEND;TZID=America/New_York:20210430T110000
DTSTAMP:20260425T095218
CREATED:20210416T002837Z
LAST-MODIFIED:20210416T003724Z
UID:10004931-1619773200-1619780400@leisureknoll.org
SUMMARY:Tennis
DESCRIPTION:Tennis courts
URL:https://leisureknoll.org/calendar/tennis/2021-04-30/
END:VEVENT
BEGIN:VEVENT
DTSTART;TZID=America/New_York:20210430T090000
DTEND;TZID=America/New_York:20210430T110000
DTSTAMP:20260425T095218
CREATED:20210416T003116Z
LAST-MODIFIED:20260109T025549Z
UID:10004951-1619773200-1619780400@leisureknoll.org
SUMMARY:Wood Shop
DESCRIPTION:
URL:https://leisureknoll.org/calendar/wood-shop/2021-04-30/
END:VEVENT
BEGIN:VEVENT
DTSTART;TZID=America/New_York:20210430T130000
DTEND;TZID=America/New_York:20210430T150000
DTSTAMP:20260425T095219
CREATED:20210416T003503Z
LAST-MODIFIED:20240929T182527Z
UID:10005372-1619787600-1619794800@leisureknoll.org
SUMMARY:Billiards
DESCRIPTION:Recreation Center\, every day except Sunday
URL:https://leisureknoll.org/calendar/billiards/2021-04-30/
END:VEVENT
BEGIN:VEVENT
DTSTART;TZID=America/New_York:20210430T183000
DTEND;TZID=America/New_York:20210430T203000
DTSTAMP:20260425T095219
CREATED:20210416T010322Z
LAST-MODIFIED:20210929T221737Z
UID:10006301-1619807400-1619814600@leisureknoll.org
SUMMARY:Texas Hold'em
DESCRIPTION:Craft Center
URL:https://leisureknoll.org/calendar/texas-holdem/2021-04-30/
END:VEVENT
END:VCALENDAR