BEGIN:VCALENDAR
VERSION:2.0
PRODID:-//Leisure Knoll - ECPv6.15.20//NONSGML v1.0//EN
CALSCALE:GREGORIAN
METHOD:PUBLISH
X-WR-CALNAME:Leisure Knoll
X-ORIGINAL-URL:https://leisureknoll.org
X-WR-CALDESC:Events for Leisure Knoll
REFRESH-INTERVAL;VALUE=DURATION:PT1H
X-Robots-Tag:noindex
X-PUBLISHED-TTL:PT1H
BEGIN:VTIMEZONE
TZID:America/New_York
BEGIN:DAYLIGHT
TZOFFSETFROM:-0500
TZOFFSETTO:-0400
TZNAME:EDT
DTSTART:20200308T070000
END:DAYLIGHT
BEGIN:STANDARD
TZOFFSETFROM:-0400
TZOFFSETTO:-0500
TZNAME:EST
DTSTART:20201101T060000
END:STANDARD
BEGIN:DAYLIGHT
TZOFFSETFROM:-0500
TZOFFSETTO:-0400
TZNAME:EDT
DTSTART:20210314T070000
END:DAYLIGHT
BEGIN:STANDARD
TZOFFSETFROM:-0400
TZOFFSETTO:-0500
TZNAME:EST
DTSTART:20211107T060000
END:STANDARD
BEGIN:DAYLIGHT
TZOFFSETFROM:-0500
TZOFFSETTO:-0400
TZNAME:EDT
DTSTART:20220313T070000
END:DAYLIGHT
BEGIN:STANDARD
TZOFFSETFROM:-0400
TZOFFSETTO:-0500
TZNAME:EST
DTSTART:20221106T060000
END:STANDARD
END:VTIMEZONE
BEGIN:VEVENT
DTSTART;VALUE=DATE:20210425
DTEND;VALUE=DATE:20210502
DTSTAMP:20260425T093735
CREATED:20210416T000056Z
LAST-MODIFIED:20220508T163151Z
UID:10004531-1619308800-1619913599@leisureknoll.org
SUMMARY:First Bus Stop #25
DESCRIPTION:The bus will begin at stop #25 and proceed to stop #1.
URL:https://leisureknoll.org/calendar/first-bus-stop-25/2021-04-25/
END:VEVENT
BEGIN:VEVENT
DTSTART;VALUE=DATE:20210428
DTEND;VALUE=DATE:20210429
DTSTAMP:20260425T093735
CREATED:20210416T002329Z
LAST-MODIFIED:20250101T172802Z
UID:10004860-1619568000-1619654399@leisureknoll.org
SUMMARY:Recycling - Paper
DESCRIPTION:Paper
URL:https://leisureknoll.org/calendar/recycling-paper/2021-04-28/
END:VEVENT
BEGIN:VEVENT
DTSTART;TZID=America/New_York:20210428T090000
DTEND;TZID=America/New_York:20210428T110000
DTSTAMP:20260425T093735
CREATED:20210416T002837Z
LAST-MODIFIED:20210416T003724Z
UID:10004930-1619600400-1619607600@leisureknoll.org
SUMMARY:Tennis
DESCRIPTION:Tennis courts
URL:https://leisureknoll.org/calendar/tennis/2021-04-28/
END:VEVENT
BEGIN:VEVENT
DTSTART;TZID=America/New_York:20210428T090000
DTEND;TZID=America/New_York:20210428T110000
DTSTAMP:20260425T093735
CREATED:20210416T003116Z
LAST-MODIFIED:20260109T025549Z
UID:10004949-1619600400-1619607600@leisureknoll.org
SUMMARY:Wood Shop
DESCRIPTION:
URL:https://leisureknoll.org/calendar/wood-shop/2021-04-28/
END:VEVENT
BEGIN:VEVENT
DTSTART;TZID=America/New_York:20210428T100000
DTEND;TZID=America/New_York:20210428T130000
DTSTAMP:20260425T093735
CREATED:20210415T031053Z
LAST-MODIFIED:20220731T193713Z
UID:10004365-1619604000-1619614800@leisureknoll.org
SUMMARY:Bus to Rocky Point
DESCRIPTION:Bus to Kohl’s Shopping Center\, Sterling National Bank\, Stop & Shop. \nLeaves Leisure Knoll at 10:00 am.
URL:https://leisureknoll.org/calendar/bus-to-rocky-point/2021-04-28/
END:VEVENT
BEGIN:VEVENT
DTSTART;TZID=America/New_York:20210428T113000
DTEND;TZID=America/New_York:20210428T143000
DTSTAMP:20260425T093735
CREATED:20210416T005344Z
LAST-MODIFIED:20210901T023024Z
UID:10005979-1619609400-1619620200@leisureknoll.org
SUMMARY:Men's Bowling
DESCRIPTION:
URL:https://leisureknoll.org/calendar/mens-bowling/2021-04-28/
END:VEVENT
BEGIN:VEVENT
DTSTART;TZID=America/New_York:20210428T130000
DTEND;TZID=America/New_York:20210428T150000
DTSTAMP:20260425T093735
CREATED:20210416T003503Z
LAST-MODIFIED:20240929T182527Z
UID:10005370-1619614800-1619622000@leisureknoll.org
SUMMARY:Billiards
DESCRIPTION:Recreation Center\, every day except Sunday
URL:https://leisureknoll.org/calendar/billiards/2021-04-28/
END:VEVENT
BEGIN:VEVENT
DTSTART;TZID=America/New_York:20210428T130000
DTEND;TZID=America/New_York:20210428T150000
DTSTAMP:20260425T093735
CREATED:20210416T005743Z
LAST-MODIFIED:20260109T030323Z
UID:10006008-1619614800-1619622000@leisureknoll.org
SUMMARY:Bridge
DESCRIPTION:Craft Center
URL:https://leisureknoll.org/calendar/bridge/2021-04-28/
END:VEVENT
BEGIN:VEVENT
DTSTART;TZID=America/New_York:20210428T183000
DTEND;TZID=America/New_York:20210428T203000
DTSTAMP:20260425T093735
CREATED:20210416T004220Z
LAST-MODIFIED:20210416T005849Z
UID:10005932-1619634600-1619641800@leisureknoll.org
SUMMARY:Mah Jongg
DESCRIPTION:Craft Center
URL:https://leisureknoll.org/calendar/mah-jongg-2/2021-04-28/
END:VEVENT
BEGIN:VEVENT
DTSTART;TZID=America/New_York:20210428T183000
DTEND;TZID=America/New_York:20210428T203000
DTSTAMP:20260425T093735
CREATED:20210416T005545Z
LAST-MODIFIED:20210416T005545Z
UID:10006004-1619634600-1619641800@leisureknoll.org
SUMMARY:Mah Jongg
DESCRIPTION:Craft Center
URL:https://leisureknoll.org/calendar/mah-jongg-4/2021-04-28/
END:VEVENT
BEGIN:VEVENT
DTSTART;TZID=America/New_York:20210428T183000
DTEND;TZID=America/New_York:20210428T203000
DTSTAMP:20260425T093735
CREATED:20210416T005957Z
LAST-MODIFIED:20220909T144628Z
UID:10006090-1619634600-1619641800@leisureknoll.org
SUMMARY:Men's Poker
DESCRIPTION:Craft Center
URL:https://leisureknoll.org/calendar/mens-poker/2021-04-28/
END:VEVENT
END:VCALENDAR