BEGIN:VCALENDAR
VERSION:2.0
PRODID:-//Leisure Knoll - ECPv6.15.20//NONSGML v1.0//EN
CALSCALE:GREGORIAN
METHOD:PUBLISH
X-ORIGINAL-URL:https://leisureknoll.org
X-WR-CALDESC:Events for Leisure Knoll
REFRESH-INTERVAL;VALUE=DURATION:PT1H
X-Robots-Tag:noindex
X-PUBLISHED-TTL:PT1H
BEGIN:VTIMEZONE
TZID:America/New_York
BEGIN:DAYLIGHT
TZOFFSETFROM:-0500
TZOFFSETTO:-0400
TZNAME:EDT
DTSTART:20200308T070000
END:DAYLIGHT
BEGIN:STANDARD
TZOFFSETFROM:-0400
TZOFFSETTO:-0500
TZNAME:EST
DTSTART:20201101T060000
END:STANDARD
BEGIN:DAYLIGHT
TZOFFSETFROM:-0500
TZOFFSETTO:-0400
TZNAME:EDT
DTSTART:20210314T070000
END:DAYLIGHT
BEGIN:STANDARD
TZOFFSETFROM:-0400
TZOFFSETTO:-0500
TZNAME:EST
DTSTART:20211107T060000
END:STANDARD
BEGIN:DAYLIGHT
TZOFFSETFROM:-0500
TZOFFSETTO:-0400
TZNAME:EDT
DTSTART:20220313T070000
END:DAYLIGHT
BEGIN:STANDARD
TZOFFSETFROM:-0400
TZOFFSETTO:-0500
TZNAME:EST
DTSTART:20221106T060000
END:STANDARD
END:VTIMEZONE
BEGIN:VEVENT
DTSTART;VALUE=DATE:20210425
DTEND;VALUE=DATE:20210502
DTSTAMP:20260425T080109
CREATED:20210416T000056Z
LAST-MODIFIED:20220508T163151Z
UID:10004531-1619308800-1619913599@leisureknoll.org
SUMMARY:First Bus Stop #25
DESCRIPTION:The bus will begin at stop #25 and proceed to stop #1.
URL:https://leisureknoll.org/calendar/first-bus-stop-25/2021-04-25/
END:VEVENT
BEGIN:VEVENT
DTSTART;VALUE=DATE:20210427
DTEND;VALUE=DATE:20210428
DTSTAMP:20260425T080109
CREATED:20210416T001050Z
LAST-MODIFIED:20210416T001050Z
UID:10004589-1619481600-1619567999@leisureknoll.org
SUMMARY:Garbage Pick Up
DESCRIPTION:GARBAGE P/U -WINTERS BROS. WASTE – 631-491-4923\nGarbage pick up Tues. & Fri. except holidays Confirm Bulk P/U (on Thursday) with Winters Brothers
URL:https://leisureknoll.org/calendar/garbage-pick-up-tues/2021-04-27/
END:VEVENT
BEGIN:VEVENT
DTSTART;VALUE=DATE:20210427
DTEND;VALUE=DATE:20210428
DTSTAMP:20260425T080109
CREATED:20210416T001302Z
LAST-MODIFIED:20251215T033850Z
UID:10004628-1619481600-1619567999@leisureknoll.org
SUMMARY:Garbage Pick Up
DESCRIPTION:GARBAGE P/U -WINTERS BROS. WASTE – 631-491-4923\nGarbage pick up Tues. & Fri. except holidays Confirm Bulk P/U (on Thursday) with Winters Brothers
URL:https://leisureknoll.org/calendar/garbage-pick-up-fri/2021-04-27/
END:VEVENT
BEGIN:VEVENT
DTSTART;TZID=America/New_York:20210427T090000
DTEND;TZID=America/New_York:20210427T110000
DTSTAMP:20260425T080109
CREATED:20210416T003116Z
LAST-MODIFIED:20260109T025549Z
UID:10004948-1619514000-1619521200@leisureknoll.org
SUMMARY:Wood Shop
DESCRIPTION:
URL:https://leisureknoll.org/calendar/wood-shop/2021-04-27/
END:VEVENT
BEGIN:VEVENT
DTSTART;TZID=America/New_York:20210427T093000
DTEND;TZID=America/New_York:20210427T103000
DTSTAMP:20260425T080109
CREATED:20210416T004451Z
LAST-MODIFIED:20210416T011905Z
UID:10005940-1619515800-1619519400@leisureknoll.org
SUMMARY:Ladies Tennis
DESCRIPTION:Tennis Courts
URL:https://leisureknoll.org/calendar/ladies-tennis/2021-04-27/
END:VEVENT
BEGIN:VEVENT
DTSTART;TZID=America/New_York:20210427T100000
DTEND;TZID=America/New_York:20210427T110000
DTSTAMP:20260425T080109
CREATED:20210416T004620Z
LAST-MODIFIED:20210416T004620Z
UID:10005945-1619517600-1619521200@leisureknoll.org
SUMMARY:Slimnastics
DESCRIPTION:Rec Hall
URL:https://leisureknoll.org/calendar/slimnastics/2021-04-27/
END:VEVENT
BEGIN:VEVENT
DTSTART;TZID=America/New_York:20210427T120000
DTEND;TZID=America/New_York:20210427T140000
DTSTAMP:20260425T080109
CREATED:20210416T004721Z
LAST-MODIFIED:20210416T004721Z
UID:10005949-1619524800-1619532000@leisureknoll.org
SUMMARY:Mah Jongg
DESCRIPTION:Rec Center
URL:https://leisureknoll.org/calendar/mah-jongg-3/2021-04-27/
END:VEVENT
BEGIN:VEVENT
DTSTART;TZID=America/New_York:20210427T123000
DTEND;TZID=America/New_York:20210427T163000
DTSTAMP:20260425T080109
CREATED:20210415T030726Z
LAST-MODIFIED:20240114T192346Z
UID:10004276-1619526600-1619541000@leisureknoll.org
SUMMARY:Bus to Yaphank & Middle Island
DESCRIPTION:Bus to Wal-Mart Yaphank/King Kullen Middle Island shopping center. \nLeaves Leisure Knoll at 12:30pm and returns 4:30pm.
URL:https://leisureknoll.org/calendar/bus-to-middle-island/2021-04-27/
END:VEVENT
BEGIN:VEVENT
DTSTART;TZID=America/New_York:20210427T130000
DTEND;TZID=America/New_York:20210427T150000
DTSTAMP:20260425T080109
CREATED:20210416T003503Z
LAST-MODIFIED:20240929T182527Z
UID:10005369-1619528400-1619535600@leisureknoll.org
SUMMARY:Billiards
DESCRIPTION:Recreation Center\, every day except Sunday
URL:https://leisureknoll.org/calendar/billiards/2021-04-27/
END:VEVENT
BEGIN:VEVENT
DTSTART;TZID=America/New_York:20210427T130000
DTEND;TZID=America/New_York:20210427T150000
DTSTAMP:20260425T080109
CREATED:20210416T004849Z
LAST-MODIFIED:20210801T012001Z
UID:10005953-1619528400-1619535600@leisureknoll.org
SUMMARY:Ladies Cards
DESCRIPTION:Craft Center
URL:https://leisureknoll.org/calendar/ladies-cards/2021-04-27/
END:VEVENT
BEGIN:VEVENT
DTSTART;TZID=America/New_York:20210427T190000
DTEND;TZID=America/New_York:20210427T210000
DTSTAMP:20260425T080109
CREATED:20210416T005003Z
LAST-MODIFIED:20210416T005003Z
UID:10005975-1619550000-1619557200@leisureknoll.org
SUMMARY:Men’s Card Game
DESCRIPTION:Craft Center
URL:https://leisureknoll.org/calendar/mens-card-game/2021-04-27/
END:VEVENT
END:VCALENDAR